FILENAME: O4711029.NES.1079995.tif
QUADRANGLE_NAME: LEPLEYS CREEK
QUADRANT: NE
WEST_LONGITUDE: -110 26 15.00000
EAST_LONGITUDE: -110 22 30.00000
NORTH_LATITUDE: 47 37 30.00000
SOUTH_LATITUDE: 47 33 45.00000
PRODUCTION_DATE: 2000 5 10
RASTER_ORDER: LEFT_RIGHT/TOP_BOTTOM
BAND_ORGANIZATION: SINGLE FILE
BAND_CONTENT: BLACK&WHITE
BAND_CONTENT: UNDEFINED
BAND_CONTENT: UNDEFINED
BITS_PER_PIXEL: 8
SAMPLES_AND_LINES: 5412 7589
HORIZONTAL_DATUM: NAD83
HORIZONTAL_COORDINATE_SYSTEM: UTM
COORDINATE_ZONE: 12
HORIZONTAL_UNITS: METERS
HORIZONTAL_RESOLUTION: 1.00000
SECONDARY_HORIZONTAL_DATUM: NAD27
XY_ORIGIN: 541904.00000 5275112.00000
SECONDARY_XY_ORIGIN: 541962.61000 5274896.78500
NATION: US
NATION: "SCIENCE
STATE: MT
NW_QUAD_CORNER_XY: 542263.08800 5274775.16200
NE_QUAD_CORNER_XY: 546958.97100 5274811.11300
SE_QUAD_CORNERY_XY: 547014.92100 5267865.02800
SW_QUAD_CORNER_XY: 542313.44300 5267829.07000
SECONDARY_NW_QUAD_XY: 542264.40800 5274556.39000
SECONDARY_NE_QUAD_XY: 546960.43700 5274592.34200
SECONDARY_SE_QUAD_XY: 547016.38700 5267646.27800
SECONDARY_SW_QUAD_XY: 542314.76200 5267610.31900
RMSE_XY: 1.00000
IMAGE_SOURCE: BLACK AND WHITE FILM
SOURCE_IMAGE_ID: NAPP 9164 196
SOURCE_IMAGE_DATE: 1996 07 27
SOURCE_IMAGE_ID: NAPP 9164 195
SOURCE_IMAGE_DATE: 1996 07 27
SOURCE_IMAGE_ID: NAPP 9164 198
SOURCE_IMAGE_DATE: 1996 07 27
SOURCE_DEM_DATE: 1971 00 00
AGENCY: WESTERN MAPPING CENTER (WMC)
PRODUCER: UNDEFINED
PRODUCTION_SYSTEM: GIS/MAGIC
COMPRESSION: UNDEFINED
STANDARD_VERSION: 1996 12
METADATA_DATE: 2000 06 12
DATA_FILE_SIZE: 41077080
BYTE_COUNT: 5412
