FILENAME: O4711029.NWS.1079996.tif
QUADRANGLE_NAME: LEPLEYS CREEK
QUADRANT: NW
WEST_LONGITUDE: -110 30 0.00000
EAST_LONGITUDE: -110 26 15.00000
NORTH_LATITUDE: 47 37 30.00000
SOUTH_LATITUDE: 47 33 45.00000
PRODUCTION_DATE: 2000 5 10
RASTER_ORDER: LEFT_RIGHT/TOP_BOTTOM
BAND_ORGANIZATION: SINGLE FILE
BAND_CONTENT: BLACK&WHITE
BAND_CONTENT: UNDEFINED
BAND_CONTENT: UNDEFINED
BITS_PER_PIXEL: 8
SAMPLES_AND_LINES: 5407 7585
HORIZONTAL_DATUM: NAD83
HORIZONTAL_COORDINATE_SYSTEM: UTM
COORDINATE_ZONE: 12
HORIZONTAL_UNITS: METERS
HORIZONTAL_RESOLUTION: 1.00000
SECONDARY_HORIZONTAL_DATUM: NAD27
XY_ORIGIN: 537208.00000 5275076.00000
SECONDARY_XY_ORIGIN: 537266.58400 5274860.82100
NATION: US
NATION: "SCIENCE
STATE: MT
NW_QUAD_CORNER_XY: 537567.20100 5274742.99500
NE_QUAD_CORNER_XY: 542263.08800 5274775.16200
SE_QUAD_CORNERY_XY: 542313.44300 5267829.07000
SW_QUAD_CORNER_XY: 537611.96000 5267796.89700
SECONDARY_NW_QUAD_XY: 537568.37400 5274524.22300
SECONDARY_NE_QUAD_XY: 542264.40800 5274556.39000
SECONDARY_SE_QUAD_XY: 542314.76200 5267610.31900
SECONDARY_SW_QUAD_XY: 537613.13300 5267578.14500
RMSE_XY: 1.40000
IMAGE_SOURCE: BLACK AND WHITE FILM
SOURCE_IMAGE_ID: NAPP 9184 013
SOURCE_IMAGE_DATE: 1997 09 23
SOURCE_IMAGE_ID: NAPP 9167 160
SOURCE_IMAGE_DATE: 1996 08 26
SOURCE_IMAGE_ID: NAPP 9184 014
SOURCE_IMAGE_DATE: 1997 09 23
SOURCE_DEM_DATE: 1971 00 00
AGENCY: WESTERN MAPPING CENTER (WMC)
PRODUCER: UNDEFINED
PRODUCTION_SYSTEM: GIS/MAGIC
COMPRESSION: UNDEFINED
STANDARD_VERSION: 1996 12
METADATA_DATE: 2000 06 12
DATA_FILE_SIZE: 41017502
BYTE_COUNT: 5407
