FILENAME: O4711029.SES.1079997.tif
QUADRANGLE_NAME: LEPLEYS CREEK
QUADRANT: SE
WEST_LONGITUDE: -110 26 15.00000
EAST_LONGITUDE: -110 22 30.00000
NORTH_LATITUDE: 47 33 45.00000
SOUTH_LATITUDE: 47 30 0.00000
PRODUCTION_DATE: 2000 5 10
RASTER_ORDER: LEFT_RIGHT/TOP_BOTTOM
BAND_ORGANIZATION: SINGLE FILE
BAND_CONTENT: BLACK&WHITE
BAND_CONTENT: UNDEFINED
BAND_CONTENT: UNDEFINED
BITS_PER_PIXEL: 8
SAMPLES_AND_LINES: 5417 7589
HORIZONTAL_DATUM: NAD83
HORIZONTAL_COORDINATE_SYSTEM: UTM
COORDINATE_ZONE: 12
HORIZONTAL_UNITS: METERS
HORIZONTAL_RESOLUTION: 1.00000
SECONDARY_HORIZONTAL_DATUM: NAD27
XY_ORIGIN: 541955.00000 5268166.00000
SECONDARY_XY_ORIGIN: 542013.73500 5267950.87300
NATION: US
NATION: "SCIENCE
STATE: MT
NW_QUAD_CORNER_XY: 542313.44300 5267829.07000
NE_QUAD_CORNER_XY: 547014.92100 5267865.02800
SE_QUAD_CORNERY_XY: 547070.81400 5260919.01900
SW_QUAD_CORNER_XY: 542363.74600 5260883.05400
SECONDARY_NW_QUAD_XY: 542314.76200 5267610.31900
SECONDARY_NE_QUAD_XY: 547016.38700 5267646.27800
SECONDARY_SE_QUAD_XY: 547072.28000 5260700.29000
SECONDARY_SW_QUAD_XY: 542365.06500 5260664.32400
RMSE_XY: 1.50000
IMAGE_SOURCE: BLACK AND WHITE FILM
SOURCE_IMAGE_ID: NAPP 9164 194
SOURCE_IMAGE_DATE: 1996 07 27
SOURCE_IMAGE_ID: NAPP 11005 067
SOURCE_IMAGE_DATE: 1998 07 20
SOURCE_IMAGE_ID: NAPP 9184 015
SOURCE_IMAGE_DATE: 1997 09 23
SOURCE_IMAGE_ID: NAPP 9185 201
SOURCE_IMAGE_DATE: 1998 07 20
SOURCE_IMAGE_ID: NAPP 9177 169
SOURCE_IMAGE_DATE: 1997 09 04
SOURCE_DEM_DATE: 1971 00 00
AGENCY: WESTERN MAPPING CENTER (WMC)
PRODUCER: UNDEFINED
PRODUCTION_SYSTEM: GIS/MAGIC
COMPRESSION: UNDEFINED
STANDARD_VERSION: 1996 12
METADATA_DATE: 2000 06 12
DATA_FILE_SIZE: 41115030
BYTE_COUNT: 5417
