FILENAME: O4711029.SWS.1079998.tif
QUADRANGLE_NAME: LEPLEYS CREEK
QUADRANT: SW
WEST_LONGITUDE: -110 30 0.00000
EAST_LONGITUDE: -110 26 15.00000
NORTH_LATITUDE: 47 33 45.00000
SOUTH_LATITUDE: 47 30 0.00000
PRODUCTION_DATE: 2000 5 10
RASTER_ORDER: LEFT_RIGHT/TOP_BOTTOM
BAND_ORGANIZATION: SINGLE FILE
BAND_CONTENT: BLACK&WHITE
BAND_CONTENT: UNDEFINED
BAND_CONTENT: UNDEFINED
BITS_PER_PIXEL: 8
SAMPLES_AND_LINES: 5412 7585
HORIZONTAL_DATUM: NAD83
HORIZONTAL_COORDINATE_SYSTEM: UTM
COORDINATE_ZONE: 12
HORIZONTAL_UNITS: METERS
HORIZONTAL_RESOLUTION: 1.00000
SECONDARY_HORIZONTAL_DATUM: NAD27
XY_ORIGIN: 537253.00000 5268130.00000
SECONDARY_XY_ORIGIN: 537311.71500 5267914.91400
NATION: US
NATION: "SCIENCE
STATE: MT
NW_QUAD_CORNER_XY: 537611.96000 5267796.89700
NE_QUAD_CORNER_XY: 542313.44300 5267829.07000
SE_QUAD_CORNERY_XY: 542363.74600 5260883.05400
SW_QUAD_CORNER_XY: 537656.67400 5260850.87500
SECONDARY_NW_QUAD_XY: 537613.13300 5267578.14500
SECONDARY_NE_QUAD_XY: 542314.76200 5267610.31900
SECONDARY_SE_QUAD_XY: 542365.06500 5260664.32400
SECONDARY_SW_QUAD_XY: 537657.84700 5260632.14400
RMSE_XY: 0.90000
IMAGE_SOURCE: BLACK AND WHITE FILM
SOURCE_IMAGE_ID: NAPP 9184 011
SOURCE_IMAGE_DATE: 1997 09 23
SOURCE_IMAGE_ID: NAPP 9167 069
SOURCE_IMAGE_DATE: 1996 08 26
SOURCE_IMAGE_ID: NAPP 9167 161
SOURCE_IMAGE_DATE: 1996 08 26
SOURCE_IMAGE_ID: NAPP 11005 067
SOURCE_IMAGE_DATE: 1998 07 20
SOURCE_IMAGE_ID: NAPP 9164 195
SOURCE_IMAGE_DATE: 1996 07 27
SOURCE_DEM_DATE: 1971 00 00
AGENCY: WESTERN MAPPING CENTER (WMC)
PRODUCER: UNDEFINED
PRODUCTION_SYSTEM: GIS/MAGIC
COMPRESSION: UNDEFINED
STANDARD_VERSION: 1996 12
METADATA_DATE: 2000 06 12
DATA_FILE_SIZE: 41055432
BYTE_COUNT: 5412
