FILENAME: O4711028.NES.1079987.tif
QUADRANGLE_NAME: CARTER MOUNTAIN
QUADRANT: NE
WEST_LONGITUDE: -110 33 45.00000
EAST_LONGITUDE: -110 30 0.00000
NORTH_LATITUDE: 47 37 30.00000
SOUTH_LATITUDE: 47 33 45.00000
PRODUCTION_DATE: 2000 5 10
RASTER_ORDER: LEFT_RIGHT/TOP_BOTTOM
BAND_ORGANIZATION: SINGLE FILE
BAND_CONTENT: BLACK&WHITE
BAND_CONTENT: UNDEFINED
BAND_CONTENT: UNDEFINED
BITS_PER_PIXEL: 8
SAMPLES_AND_LINES: 5401 7581
HORIZONTAL_DATUM: NAD83
HORIZONTAL_COORDINATE_SYSTEM: UTM
COORDINATE_ZONE: 12
HORIZONTAL_UNITS: METERS
HORIZONTAL_RESOLUTION: 1.00000
SECONDARY_HORIZONTAL_DATUM: NAD27
XY_ORIGIN: 532512.00000 5275043.00000
SECONDARY_XY_ORIGIN: 532570.63200 5274827.85200
NATION: US
NATION: "SCIENCE
STATE: MT
NW_QUAD_CORNER_XY: 532871.31000 5274714.61300
NE_QUAD_CORNER_XY: 537567.20100 5274742.99500
SE_QUAD_CORNERY_XY: 537611.96000 5267796.89700
SW_QUAD_CORNER_XY: 532910.47400 5267768.51000
SECONDARY_NW_QUAD_XY: 532872.33600 5274495.84000
SECONDARY_NE_QUAD_XY: 537568.37400 5274524.22300
SECONDARY_SE_QUAD_XY: 537613.13300 5267578.14500
SECONDARY_SW_QUAD_XY: 532911.50000 5267549.75700
RMSE_XY: 1.40000
IMAGE_SOURCE: BLACK AND WHITE FILM
SOURCE_IMAGE_ID: NAPP 9167 160
SOURCE_IMAGE_DATE: 1996 08 26
SOURCE_IMAGE_ID: NAPP 9167 071
SOURCE_IMAGE_DATE: 1996 08 26
SOURCE_DEM_DATE: 1953 00 00
AGENCY: WESTERN MAPPING CENTER (WMC)
PRODUCER: UNDEFINED
PRODUCTION_SYSTEM: GIS/MAGIC
COMPRESSION: UNDEFINED
STANDARD_VERSION: 1996 12
METADATA_DATE: 2000 06 12
DATA_FILE_SIZE: 40950382
BYTE_COUNT: 5401
