FILENAME: O4711028.NWS.1079988.tif
QUADRANGLE_NAME: CARTER MOUNTAIN
QUADRANT: NW
WEST_LONGITUDE: -110 37 30.00000
EAST_LONGITUDE: -110 33 45.00000
NORTH_LATITUDE: 47 37 30.00000
SOUTH_LATITUDE: 47 33 45.00000
PRODUCTION_DATE: 2000 5 10
RASTER_ORDER: LEFT_RIGHT/TOP_BOTTOM
BAND_ORGANIZATION: SINGLE FILE
BAND_CONTENT: BLACK&WHITE
BAND_CONTENT: UNDEFINED
BAND_CONTENT: UNDEFINED
BITS_PER_PIXEL: 8
SAMPLES_AND_LINES: 5396 7577
HORIZONTAL_DATUM: NAD83
HORIZONTAL_COORDINATE_SYSTEM: UTM
COORDINATE_ZONE: 12
HORIZONTAL_UNITS: METERS
HORIZONTAL_RESOLUTION: 1.00000
SECONDARY_HORIZONTAL_DATUM: NAD27
XY_ORIGIN: 527816.00000 5275015.00000
SECONDARY_XY_ORIGIN: 527874.67200 5274799.88800
NATION: US
NATION: "SCIENCE
STATE: MT
NW_QUAD_CORNER_XY: 528175.41500 5274690.01500
NE_QUAD_CORNER_XY: 532871.31000 5274714.61300
SE_QUAD_CORNERY_XY: 532910.47400 5267768.51000
SW_QUAD_CORNER_XY: 528208.98400 5267743.90700
SECONDARY_NW_QUAD_XY: 528176.29500 5274471.24100
SECONDARY_NE_QUAD_XY: 532872.33600 5274495.84000
SECONDARY_SE_QUAD_XY: 532911.50000 5267549.75700
SECONDARY_SW_QUAD_XY: 528209.86400 5267525.15300
RMSE_XY: 1.20000
IMAGE_SOURCE: BLACK AND WHITE FILM
SOURCE_IMAGE_ID: NAPP 11009 082
SOURCE_IMAGE_DATE: 1998 07 22
SOURCE_IMAGE_ID: NAPP 11009 081
SOURCE_IMAGE_DATE: 1998 07 22
SOURCE_IMAGE_ID: NAPP 11009 083
SOURCE_IMAGE_DATE: 1998 07 22
SOURCE_DEM_DATE: 1953 00 00
AGENCY: WESTERN MAPPING CENTER (WMC)
PRODUCER: UNDEFINED
PRODUCTION_SYSTEM: GIS/MAGIC
COMPRESSION: UNDEFINED
STANDARD_VERSION: 1996 12
METADATA_DATE: 2000 06 12
DATA_FILE_SIZE: 40890888
BYTE_COUNT: 5396
