FILENAME: O4711028.SWS.1079990.tif
QUADRANGLE_NAME: CARTER MOUNTAIN
QUADRANT: SW
WEST_LONGITUDE: -110 37 30.00000
EAST_LONGITUDE: -110 33 45.00000
NORTH_LATITUDE: 47 33 45.00000
SOUTH_LATITUDE: 47 30 0.00000
PRODUCTION_DATE: 2000 5 10
RASTER_ORDER: LEFT_RIGHT/TOP_BOTTOM
BAND_ORGANIZATION: SINGLE FILE
BAND_CONTENT: BLACK&WHITE
BAND_CONTENT: UNDEFINED
BAND_CONTENT: UNDEFINED
BITS_PER_PIXEL: 8
SAMPLES_AND_LINES: 5401 7577
HORIZONTAL_DATUM: NAD83
HORIZONTAL_COORDINATE_SYSTEM: UTM
COORDINATE_ZONE: 12
HORIZONTAL_UNITS: METERS
HORIZONTAL_RESOLUTION: 1.00000
SECONDARY_HORIZONTAL_DATUM: NAD27
XY_ORIGIN: 527850.00000 5268069.00000
SECONDARY_XY_ORIGIN: 527908.83500 5267853.95300
NATION: US
NATION: "SCIENCE
STATE: MT
NW_QUAD_CORNER_XY: 528208.98400 5267743.90700
NE_QUAD_CORNER_XY: 532910.47400 5267768.51000
SE_QUAD_CORNERY_XY: 532949.59800 5260822.48200
SW_QUAD_CORNER_XY: 528242.51900 5260797.87500
SECONDARY_NW_QUAD_XY: 528209.86400 5267525.15300
SECONDARY_NE_QUAD_XY: 532911.50000 5267549.75700
SECONDARY_SE_QUAD_XY: 532950.62400 5260603.75000
SECONDARY_SW_QUAD_XY: 528243.39800 5260579.14200
RMSE_XY: 2.00000
IMAGE_SOURCE: BLACK AND WHITE FILM
SOURCE_IMAGE_ID: NAPP 11009 080
SOURCE_IMAGE_DATE: 1998 07 22
SOURCE_IMAGE_ID: NAPP 9182 131
SOURCE_IMAGE_DATE: 1997 09 09
SOURCE_IMAGE_ID: NAPP 11009 081
SOURCE_IMAGE_DATE: 1998 07 22
SOURCE_DEM_DATE: 1953 00 00
AGENCY: WESTERN MAPPING CENTER (WMC)
PRODUCER: UNDEFINED
PRODUCTION_SYSTEM: GIS/MAGIC
COMPRESSION: UNDEFINED
STANDARD_VERSION: 1996 12
METADATA_DATE: 2000 06 12
DATA_FILE_SIZE: 40928778
BYTE_COUNT: 5401
