FILENAME: O4711027.SES.1079977.tif
QUADRANGLE_NAME: BIG SAG
QUADRANT: SE
WEST_LONGITUDE: -110 41 15.00000
EAST_LONGITUDE: -110 37 30.00000
NORTH_LATITUDE: 47 33 45.00000
SOUTH_LATITUDE: 47 30 0.00000
PRODUCTION_DATE: 2000 5 10
RASTER_ORDER: LEFT_RIGHT/TOP_BOTTOM
BAND_ORGANIZATION: SINGLE FILE
BAND_CONTENT: BLACK&WHITE
BAND_CONTENT: UNDEFINED
BAND_CONTENT: UNDEFINED
BITS_PER_PIXEL: 8
SAMPLES_AND_LINES: 5396 7573
HORIZONTAL_DATUM: NAD83
HORIZONTAL_COORDINATE_SYSTEM: UTM
COORDINATE_ZONE: 12
HORIZONTAL_UNITS: METERS
HORIZONTAL_RESOLUTION: 1.00000
SECONDARY_HORIZONTAL_DATUM: NAD27
XY_ORIGIN: 523148.00000 5268044.00000
SECONDARY_XY_ORIGIN: 523206.89100 5267828.97600
NATION: US
NATION: "SCIENCE
STATE: MT
NW_QUAD_CORNER_XY: 523507.49100 5267723.09000
NE_QUAD_CORNER_XY: 528208.98400 5267743.90700
SE_QUAD_CORNERY_XY: 528242.51900 5260797.87500
SW_QUAD_CORNER_XY: 523535.43700 5260777.05400
SECONDARY_NW_QUAD_XY: 523508.22400 5267504.33500
SECONDARY_NE_QUAD_XY: 528209.86400 5267525.15300
SECONDARY_SE_QUAD_XY: 528243.39800 5260579.14200
SECONDARY_SW_QUAD_XY: 523536.17000 5260558.32000
RMSE_XY: 1.30000
IMAGE_SOURCE: BLACK AND WHITE FILM
SOURCE_IMAGE_ID: NAPP 11009 081
SOURCE_IMAGE_DATE: 1998 07 22
SOURCE_IMAGE_ID: NAPP 9167 165
SOURCE_IMAGE_DATE: 1996 08 26
SOURCE_IMAGE_ID: NAPP 9167 167
SOURCE_IMAGE_DATE: 1996 08 26
SOURCE_IMAGE_ID: NAPP 9167 168
SOURCE_IMAGE_DATE: 1996 08 26
SOURCE_IMAGE_ID: NAPP 11009 080
SOURCE_IMAGE_DATE: 1998 07 22
SOURCE_DEM_DATE: 2000 01 01
AGENCY: WESTERN MAPPING CENTER (WMC)
PRODUCER: UNDEFINED
PRODUCTION_SYSTEM: GIS/MAGIC
COMPRESSION: UNDEFINED
STANDARD_VERSION: 1996 12
METADATA_DATE: 2000 06 12
DATA_FILE_SIZE: 40869304
BYTE_COUNT: 5396
