FILENAME: O4711027.SWS.1079978.tif
QUADRANGLE_NAME: BIG SAG
QUADRANT: SW
WEST_LONGITUDE: -110 45 0.00000
EAST_LONGITUDE: -110 41 15.00000
NORTH_LATITUDE: 47 33 45.00000
SOUTH_LATITUDE: 47 30 0.00000
PRODUCTION_DATE: 2000 5 10
RASTER_ORDER: LEFT_RIGHT/TOP_BOTTOM
BAND_ORGANIZATION: SINGLE FILE
BAND_CONTENT: BLACK&WHITE
BAND_CONTENT: UNDEFINED
BAND_CONTENT: UNDEFINED
BITS_PER_PIXEL: 8
SAMPLES_AND_LINES: 5391 7570
HORIZONTAL_DATUM: NAD83
HORIZONTAL_COORDINATE_SYSTEM: UTM
COORDINATE_ZONE: 12
HORIZONTAL_UNITS: METERS
HORIZONTAL_RESOLUTION: 1.00000
SECONDARY_HORIZONTAL_DATUM: NAD27
XY_ORIGIN: 518446.00000 5268024.00000
SECONDARY_XY_ORIGIN: 518504.94700 5267808.99800
NATION: US
NATION: "SCIENCE
STATE: MT
NW_QUAD_CORNER_XY: 518805.99600 5267706.05800
NE_QUAD_CORNER_XY: 523507.49100 5267723.09000
SE_QUAD_CORNERY_XY: 523535.43700 5260777.05400
SW_QUAD_CORNER_XY: 518828.35200 5260760.01800
SECONDARY_NW_QUAD_XY: 518806.58200 5267487.30300
SECONDARY_NE_QUAD_XY: 523508.22400 5267504.33500
SECONDARY_SE_QUAD_XY: 523536.17000 5260558.32000
SECONDARY_SW_QUAD_XY: 518828.93900 5260541.28400
RMSE_XY: 2.00000
IMAGE_SOURCE: BLACK AND WHITE FILM
SOURCE_IMAGE_ID: NAPP 9167 262
SOURCE_IMAGE_DATE: 1996 08 26
SOURCE_IMAGE_ID: NAPP 9167 274
SOURCE_IMAGE_DATE: 1996 08 26
SOURCE_IMAGE_ID: NAPP 9183 097
SOURCE_IMAGE_DATE: 1997 09 09
SOURCE_DEM_DATE: 2000 01 01
AGENCY: WESTERN MAPPING CENTER (WMC)
PRODUCER: UNDEFINED
PRODUCTION_SYSTEM: GIS/MAGIC
COMPRESSION: UNDEFINED
STANDARD_VERSION: 1996 12
METADATA_DATE: 2000 06 12
DATA_FILE_SIZE: 40815261
BYTE_COUNT: 5391
