FILENAME: O4711026.NWS.1079972.tif
QUADRANGLE_NAME: HIGHWOOD
QUADRANT: NW
WEST_LONGITUDE: -110 52 30.00000
EAST_LONGITUDE: -110 48 45.00000
NORTH_LATITUDE: 47 37 30.00000
SOUTH_LATITUDE: 47 33 45.00000
PRODUCTION_DATE: 2000 5 10
RASTER_ORDER: LEFT_RIGHT/TOP_BOTTOM
BAND_ORGANIZATION: SINGLE FILE
BAND_CONTENT: BLACK&WHITE
BAND_CONTENT: UNDEFINED
BAND_CONTENT: UNDEFINED
BITS_PER_PIXEL: 8
SAMPLES_AND_LINES: 5375 7562
HORIZONTAL_DATUM: NAD83
HORIZONTAL_COORDINATE_SYSTEM: UTM
COORDINATE_ZONE: 12
HORIZONTAL_UNITS: METERS
HORIZONTAL_RESOLUTION: 1.00000
SECONDARY_HORIZONTAL_DATUM: NAD27
XY_ORIGIN: 509031.00000 5274939.00000
SECONDARY_XY_ORIGIN: 509090.22900 5274723.89600
NATION: US
NATION: "SCIENCE
STATE: MT
NW_QUAD_CORNER_XY: 509391.81000 5274629.46800
NE_QUAD_CORNER_XY: 514087.71400 5274638.92800
SE_QUAD_CORNERY_XY: 514104.49900 5267692.81000
SW_QUAD_CORNER_XY: 509403.00000 5267683.34800
SECONDARY_NW_QUAD_XY: 509392.10400 5274410.69200
SECONDARY_NE_QUAD_XY: 514088.15400 5274420.15300
SECONDARY_SE_QUAD_XY: 514104.93800 5267474.05500
SECONDARY_SW_QUAD_XY: 509403.29300 5267464.59200
RMSE_XY: 1.40000
IMAGE_SOURCE: BLACK AND WHITE FILM
SOURCE_IMAGE_ID: NAPP 9168 054
SOURCE_IMAGE_DATE: 1996 08 26
SOURCE_IMAGE_ID: NAPP 9168 053
SOURCE_IMAGE_DATE: 1996 08 26
SOURCE_DEM_DATE: 1975 00 00
AGENCY: WESTERN MAPPING CENTER (WMC)
PRODUCER: UNDEFINED
PRODUCTION_SYSTEM: GIS/MAGIC
COMPRESSION: UNDEFINED
STANDARD_VERSION: 1996 12
METADATA_DATE: 2000 06 12
DATA_FILE_SIZE: 40651125
BYTE_COUNT: 5375
