FILENAME: O4711026.SWS.1079974.tif
QUADRANGLE_NAME: HIGHWOOD
QUADRANT: SW
WEST_LONGITUDE: -110 52 30.00000
EAST_LONGITUDE: -110 48 45.00000
NORTH_LATITUDE: 47 33 45.00000
SOUTH_LATITUDE: 47 30 0.00000
PRODUCTION_DATE: 2000 5 10
RASTER_ORDER: LEFT_RIGHT/TOP_BOTTOM
BAND_ORGANIZATION: SINGLE FILE
BAND_CONTENT: BLACK&WHITE
BAND_CONTENT: UNDEFINED
BAND_CONTENT: UNDEFINED
BITS_PER_PIXEL: 8
SAMPLES_AND_LINES: 5381 7562
HORIZONTAL_DATUM: NAD83
HORIZONTAL_COORDINATE_SYSTEM: UTM
COORDINATE_ZONE: 12
HORIZONTAL_UNITS: METERS
HORIZONTAL_RESOLUTION: 1.00000
SECONDARY_HORIZONTAL_DATUM: NAD27
XY_ORIGIN: 509042.00000 5267993.00000
SECONDARY_XY_ORIGIN: 509101.56600 5267777.87800
NATION: US
NATION: "SCIENCE
STATE: MT
NW_QUAD_CORNER_XY: 509403.00000 5267683.34800
NE_QUAD_CORNER_XY: 514104.49900 5267692.81000
SE_QUAD_CORNERY_XY: 514121.26600 5260746.76800
SW_QUAD_CORNER_XY: 509414.17800 5260737.30400
SECONDARY_NW_QUAD_XY: 509403.29300 5267464.59200
SECONDARY_NE_QUAD_XY: 514104.93800 5267474.05500
SECONDARY_SE_QUAD_XY: 514121.70600 5260528.03400
SECONDARY_SW_QUAD_XY: 509414.47100 5260518.57000
RMSE_XY: 1.80000
IMAGE_SOURCE: BLACK AND WHITE FILM
SOURCE_IMAGE_ID: NAPP 9168 056
SOURCE_IMAGE_DATE: 1996 08 26
SOURCE_IMAGE_ID: NAPP 9168 075
SOURCE_IMAGE_DATE: 1996 08 26
SOURCE_DEM_DATE: 1975 00 00
AGENCY: WESTERN MAPPING CENTER (WMC)
PRODUCER: UNDEFINED
PRODUCTION_SYSTEM: GIS/MAGIC
COMPRESSION: UNDEFINED
STANDARD_VERSION: 1996 12
METADATA_DATE: 2000 06 12
DATA_FILE_SIZE: 40696503
BYTE_COUNT: 5381
