FILENAME: O4711025.NES.1078210.tif
QUADRANGLE_NAME: WALTHAM
QUADRANT: NE
WEST_LONGITUDE: -110 56 15.00000
EAST_LONGITUDE: -110 52 30.00000
NORTH_LATITUDE: 47 37 30.00000
SOUTH_LATITUDE: 47 33 45.00000
PRODUCTION_DATE: 2000 5 8
RASTER_ORDER: LEFT_RIGHT/TOP_BOTTOM
BAND_ORGANIZATION: SINGLE FILE
BAND_CONTENT: BLACK&WHITE
BAND_CONTENT: UNDEFINED
BAND_CONTENT: UNDEFINED
BITS_PER_PIXEL: 8
SAMPLES_AND_LINES: 5369 7558
HORIZONTAL_DATUM: NAD83
HORIZONTAL_COORDINATE_SYSTEM: UTM
COORDINATE_ZONE: 12
HORIZONTAL_UNITS: METERS
HORIZONTAL_RESOLUTION: 1.00000
SECONDARY_HORIZONTAL_DATUM: NAD27
XY_ORIGIN: 504335.00000 5274930.00000
SECONDARY_XY_ORIGIN: 504394.45300 5274714.86800
NATION: US
NATION: "SCIENCE
STATE: MT
NW_QUAD_CORNER_XY: 504695.90500 5274623.79100
NE_QUAD_CORNER_XY: 509391.81000 5274629.46800
SE_QUAD_CORNERY_XY: 509403.00000 5267683.34800
SW_QUAD_CORNER_XY: 504701.50000 5267677.67000
SECONDARY_NW_QUAD_XY: 504696.05200 5274405.01500
SECONDARY_NE_QUAD_XY: 509392.10400 5274410.69200
SECONDARY_SE_QUAD_XY: 509403.29300 5267464.59200
SECONDARY_SW_QUAD_XY: 504701.64700 5267458.91500
RMSE_XY: 1.30000
IMAGE_SOURCE: BLACK AND WHITE FILM
SOURCE_IMAGE_ID: NAPP 9168 077
SOURCE_IMAGE_DATE: 1996 08 26
SOURCE_IMAGE_ID: NAPP 9168 076
SOURCE_IMAGE_DATE: 1996 08 26
SOURCE_IMAGE_ID: NAPP 9168 078
SOURCE_IMAGE_DATE: 1996 08 26
SOURCE_DEM_DATE: 1954 00 00
AGENCY: WESTERN MAPPING CENTER (WMC)
PRODUCER: UNDEFINED
PRODUCTION_SYSTEM: GIS/MAGIC
COMPRESSION: UNDEFINED
STANDARD_VERSION: 1996 12
METADATA_DATE: 2000 06 02
DATA_FILE_SIZE: 40584271
BYTE_COUNT: 5369
