FILENAME: O4711025.NWS.1078211.tif
QUADRANGLE_NAME: WALTHAM
QUADRANT: NW
WEST_LONGITUDE: -111 0 0.00000
EAST_LONGITUDE: -110 56 15.00000
NORTH_LATITUDE: 47 37 30.00000
SOUTH_LATITUDE: 47 33 45.00000
PRODUCTION_DATE: 2000 5 8
RASTER_ORDER: LEFT_RIGHT/TOP_BOTTOM
BAND_ORGANIZATION: SINGLE FILE
BAND_CONTENT: BLACK&WHITE
BAND_CONTENT: UNDEFINED
BAND_CONTENT: UNDEFINED
BITS_PER_PIXEL: 8
SAMPLES_AND_LINES: 5365 7554
HORIZONTAL_DATUM: NAD83
HORIZONTAL_COORDINATE_SYSTEM: UTM
COORDINATE_ZONE: 12
HORIZONTAL_UNITS: METERS
HORIZONTAL_RESOLUTION: 1.00000
SECONDARY_HORIZONTAL_DATUM: NAD27
XY_ORIGIN: 499638.00000 5274924.00000
SECONDARY_XY_ORIGIN: 499697.67800 5274708.84000
NATION: US
NATION: "SCIENCE
STATE: MT
NW_QUAD_CORNER_XY: 500000.00000 5274621.89900
NE_QUAD_CORNER_XY: 504695.90500 5274623.79100
SE_QUAD_CORNERY_XY: 504701.50000 5267677.67000
SW_QUAD_CORNER_XY: 500000.00000 5267675.77800
SECONDARY_NW_QUAD_XY: 500000.00000 5274403.12300
SECONDARY_NE_QUAD_XY: 504696.05200 5274405.01500
SECONDARY_SE_QUAD_XY: 504701.64700 5267458.91500
SECONDARY_SW_QUAD_XY: 500000.00000 5267457.02200
RMSE_XY: 1.00000
IMAGE_SOURCE: BLACK AND WHITE FILM
SOURCE_IMAGE_ID: NAPP 9168 113
SOURCE_IMAGE_DATE: 1996 08 26
SOURCE_IMAGE_ID: NAPP 9168 112
SOURCE_IMAGE_DATE: 1996 08 26
SOURCE_DEM_DATE: 1954 00 00
AGENCY: WESTERN MAPPING CENTER (WMC)
PRODUCER: UNDEFINED
PRODUCTION_SYSTEM: GIS/MAGIC
COMPRESSION: UNDEFINED
STANDARD_VERSION: 1996 12
METADATA_DATE: 2000 06 02
DATA_FILE_SIZE: 40532575
BYTE_COUNT: 5365
