FILENAME: O4711025.SES.1078212.tif
QUADRANGLE_NAME: WALTHAM
QUADRANT: SE
WEST_LONGITUDE: -110 56 15.00000
EAST_LONGITUDE: -110 52 30.00000
NORTH_LATITUDE: 47 33 45.00000
SOUTH_LATITUDE: 47 30 0.00000
PRODUCTION_DATE: 2000 5 8
RASTER_ORDER: LEFT_RIGHT/TOP_BOTTOM
BAND_ORGANIZATION: SINGLE FILE
BAND_CONTENT: BLACK&WHITE
BAND_CONTENT: UNDEFINED
BAND_CONTENT: UNDEFINED
BITS_PER_PIXEL: 8
SAMPLES_AND_LINES: 5376 7558
HORIZONTAL_DATUM: NAD83
HORIZONTAL_COORDINATE_SYSTEM: UTM
COORDINATE_ZONE: 12
HORIZONTAL_UNITS: METERS
HORIZONTAL_RESOLUTION: 1.00000
SECONDARY_HORIZONTAL_DATUM: NAD27
XY_ORIGIN: 504340.00000 5267984.00000
SECONDARY_XY_ORIGIN: 504399.85900 5267768.82200
NATION: US
NATION: "SCIENCE
STATE: MT
NW_QUAD_CORNER_XY: 504701.50000 5267677.67000
NE_QUAD_CORNER_XY: 509403.00000 5267683.34800
SE_QUAD_CORNERY_XY: 509414.17800 5260737.30400
SW_QUAD_CORNER_XY: 504707.08900 5260731.62500
SECONDARY_NW_QUAD_XY: 504701.64700 5267458.91500
SECONDARY_NE_QUAD_XY: 509403.29300 5267464.59200
SECONDARY_SE_QUAD_XY: 509414.47100 5260518.57000
SECONDARY_SW_QUAD_XY: 504707.23600 5260512.89100
RMSE_XY: 1.50000
IMAGE_SOURCE: BLACK AND WHITE FILM
SOURCE_IMAGE_ID: NAPP 9168 075
SOURCE_IMAGE_DATE: 1996 08 26
SOURCE_IMAGE_ID: NAPP 9168 114
SOURCE_IMAGE_DATE: 1996 08 26
SOURCE_IMAGE_ID: NAPP 9168 074
SOURCE_IMAGE_DATE: 1996 08 26
SOURCE_IMAGE_ID: NAPP 9168 076
SOURCE_IMAGE_DATE: 1996 08 26
SOURCE_DEM_DATE: 1954 00 00
AGENCY: WESTERN MAPPING CENTER (WMC)
PRODUCER: UNDEFINED
PRODUCTION_SYSTEM: GIS/MAGIC
COMPRESSION: UNDEFINED
STANDARD_VERSION: 1996 12
METADATA_DATE: 2000 06 02
DATA_FILE_SIZE: 40637184
BYTE_COUNT: 5376
