FILENAME: O4711025.SWS.1078213.tif
QUADRANGLE_NAME: WALTHAM
QUADRANT: SW
WEST_LONGITUDE: -111 0 0.00000
EAST_LONGITUDE: -110 56 15.00000
NORTH_LATITUDE: 47 33 45.00000
SOUTH_LATITUDE: 47 30 0.00000
PRODUCTION_DATE: 2000 5 8
RASTER_ORDER: LEFT_RIGHT/TOP_BOTTOM
BAND_ORGANIZATION: SINGLE FILE
BAND_CONTENT: BLACK&WHITE
BAND_CONTENT: UNDEFINED
BAND_CONTENT: UNDEFINED
BITS_PER_PIXEL: 8
SAMPLES_AND_LINES: 5371 7554
HORIZONTAL_DATUM: NAD83
HORIZONTAL_COORDINATE_SYSTEM: UTM
COORDINATE_ZONE: 12
HORIZONTAL_UNITS: METERS
HORIZONTAL_RESOLUTION: 1.00000
SECONDARY_HORIZONTAL_DATUM: NAD27
XY_ORIGIN: 499638.00000 5267978.00000
SECONDARY_XY_ORIGIN: 499698.15300 5267762.76500
NATION: US
NATION: "SCIENCE
STATE: MT
NW_QUAD_CORNER_XY: 500000.00000 5267675.77800
NE_QUAD_CORNER_XY: 504701.50000 5267677.67000
SE_QUAD_CORNERY_XY: 504707.08900 5260731.62500
SW_QUAD_CORNER_XY: 500000.00000 5260729.73300
SECONDARY_NW_QUAD_XY: 500000.00000 5267457.02200
SECONDARY_NE_QUAD_XY: 504701.64700 5267458.91500
SECONDARY_SE_QUAD_XY: 504707.23600 5260512.89100
SECONDARY_SW_QUAD_XY: 500000.00000 5260510.99800
RMSE_XY: 1.20000
IMAGE_SOURCE: BLACK AND WHITE FILM
SOURCE_IMAGE_ID: NAPP 9168 115
SOURCE_IMAGE_DATE: 1996 08 26
SOURCE_IMAGE_ID: NAPP 9168 114
SOURCE_IMAGE_DATE: 1996 08 26
SOURCE_DEM_DATE: 1954 00 00
AGENCY: WESTERN MAPPING CENTER (WMC)
PRODUCER: UNDEFINED
PRODUCTION_SYSTEM: GIS/MAGIC
COMPRESSION: UNDEFINED
STANDARD_VERSION: 1996 12
METADATA_DATE: 2000 06 02
DATA_FILE_SIZE: 40577905
BYTE_COUNT: 5371
