FILENAME: O4711024.NWS.1080040.tif
QUADRANGLE_NAME: SQUARE BUTTE NE
QUADRANT: NW
WEST_LONGITUDE: -110 7 30.00000
EAST_LONGITUDE: -110 3 45.00000
NORTH_LATITUDE: 47 45 0.00000
SOUTH_LATITUDE: 47 41 15.00000
PRODUCTION_DATE: 2000 5 12
RASTER_ORDER: LEFT_RIGHT/TOP_BOTTOM
BAND_ORGANIZATION: SINGLE FILE
BAND_CONTENT: BLACK&WHITE
BAND_CONTENT: UNDEFINED
BAND_CONTENT: UNDEFINED
BITS_PER_PIXEL: 8
SAMPLES_AND_LINES: 5428 7607
HORIZONTAL_DATUM: NAD83
HORIZONTAL_COORDINATE_SYSTEM: UTM
COORDINATE_ZONE: 12
HORIZONTAL_UNITS: METERS
HORIZONTAL_RESOLUTION: 1.00000
SECONDARY_HORIZONTAL_DATUM: NAD27
XY_ORIGIN: 565228.00000 5289240.00000
SECONDARY_XY_ORIGIN: 565286.56600 5289024.37800
NATION: US
NATION: "SCIENCE
STATE: MT
NW_QUAD_CORNER_XY: 565585.54700 5288885.08500
NE_QUAD_CORNER_XY: 570270.19000 5288939.93700
SE_QUAD_CORNERY_XY: 570354.28700 5281993.75100
SW_QUAD_CORNER_XY: 565664.03600 5281938.88700
SECONDARY_NW_QUAD_XY: 565587.60000 5288666.28200
SECONDARY_NE_QUAD_XY: 570272.39000 5288721.13600
SECONDARY_SE_QUAD_XY: 570356.48700 5281774.96800
SECONDARY_SW_QUAD_XY: 565666.08900 5281720.10300
RMSE_XY: 0.80000
IMAGE_SOURCE: BLACK AND WHITE FILM
SOURCE_IMAGE_ID: NAPP 9178 279
SOURCE_IMAGE_DATE: 1997 09 04
SOURCE_IMAGE_ID: NAPP 9178 278
SOURCE_IMAGE_DATE: 1997 09 04
SOURCE_DEM_DATE: 1971 00 00
AGENCY: WESTERN MAPPING CENTER (WMC)
PRODUCER: UNDEFINED
PRODUCTION_SYSTEM: GIS/MAGIC
COMPRESSION: UNDEFINED
STANDARD_VERSION: 1996 12
METADATA_DATE: 2000 06 12
DATA_FILE_SIZE: 41296224
BYTE_COUNT: 5428
