FILENAME: O4711023.NES.1080027.tif
QUADRANGLE_NAME: DAMMEL RESERVOIR
QUADRANT: NE
WEST_LONGITUDE: -110 11 15.00000
EAST_LONGITUDE: -110 7 30.00000
NORTH_LATITUDE: 47 45 0.00000
SOUTH_LATITUDE: 47 41 15.00000
PRODUCTION_DATE: 2000 5 12
RASTER_ORDER: LEFT_RIGHT/TOP_BOTTOM
BAND_ORGANIZATION: SINGLE FILE
BAND_CONTENT: BLACK&WHITE
BAND_CONTENT: UNDEFINED
BAND_CONTENT: UNDEFINED
BITS_PER_PIXEL: 8
SAMPLES_AND_LINES: 5423 7604
HORIZONTAL_DATUM: NAD83
HORIZONTAL_COORDINATE_SYSTEM: UTM
COORDINATE_ZONE: 12
HORIZONTAL_UNITS: METERS
HORIZONTAL_RESOLUTION: 1.00000
SECONDARY_HORIZONTAL_DATUM: NAD27
XY_ORIGIN: 560543.00000 5289186.00000
SECONDARY_XY_ORIGIN: 560601.52000 5288970.45300
NATION: US
NATION: "SCIENCE
STATE: MT
NW_QUAD_CORNER_XY: 560900.89600 5288834.01500
NE_QUAD_CORNER_XY: 565585.54700 5288885.08500
SE_QUAD_CORNERY_XY: 565664.03600 5281938.88700
SW_QUAD_CORNER_XY: 560973.77800 5281887.80700
SECONDARY_NW_QUAD_XY: 560902.80200 5288615.21100
SECONDARY_NE_QUAD_XY: 565587.60000 5288666.28200
SECONDARY_SE_QUAD_XY: 565666.08900 5281720.10300
SECONDARY_SW_QUAD_XY: 560975.68400 5281669.02100
RMSE_XY: 1.10000
IMAGE_SOURCE: BLACK AND WHITE FILM
SOURCE_IMAGE_ID: NAPP 9179 028
SOURCE_IMAGE_DATE: 1997 09 04
SOURCE_IMAGE_ID: NAPP 9179 029
SOURCE_IMAGE_DATE: 1997 09 04
SOURCE_IMAGE_ID: NAPP 9178 279
SOURCE_IMAGE_DATE: 1997 09 04
SOURCE_DEM_DATE: 1971 00 00
AGENCY: WESTERN MAPPING CENTER (WMC)
PRODUCER: UNDEFINED
PRODUCTION_SYSTEM: GIS/MAGIC
COMPRESSION: UNDEFINED
STANDARD_VERSION: 1996 12
METADATA_DATE: 2000 06 12
DATA_FILE_SIZE: 41241915
BYTE_COUNT: 5423
