FILENAME: O4711022.NES.1080003.tif
QUADRANGLE_NAME: GERALDINE NE
QUADRANT: NE
WEST_LONGITUDE: -110 18 45.00000
EAST_LONGITUDE: -110 15 0.00000
NORTH_LATITUDE: 47 45 0.00000
SOUTH_LATITUDE: 47 41 15.00000
PRODUCTION_DATE: 2000 5 12
RASTER_ORDER: LEFT_RIGHT/TOP_BOTTOM
BAND_ORGANIZATION: SINGLE FILE
BAND_CONTENT: BLACK&WHITE
BAND_CONTENT: UNDEFINED
BAND_CONTENT: UNDEFINED
BITS_PER_PIXEL: 8
SAMPLES_AND_LINES: 5412 7596
HORIZONTAL_DATUM: NAD83
HORIZONTAL_COORDINATE_SYSTEM: UTM
COORDINATE_ZONE: 12
HORIZONTAL_UNITS: METERS
HORIZONTAL_RESOLUTION: 1.00000
SECONDARY_HORIZONTAL_DATUM: NAD27
XY_ORIGIN: 551173.00000 5289087.00000
SECONDARY_XY_ORIGIN: 551231.43600 5288871.55500
NATION: US
NATION: "SCIENCE
STATE: MT
NW_QUAD_CORNER_XY: 551531.57300 5288743.22700
NE_QUAD_CORNER_XY: 556216.23800 5288786.72900
SE_QUAD_CORNERY_XY: 556283.51300 5281840.51200
SW_QUAD_CORNER_XY: 551593.24200 5281797.00000
SECONDARY_NW_QUAD_XY: 551533.18700 5288524.41900
SECONDARY_NE_QUAD_XY: 556217.99800 5288567.92300
SECONDARY_SE_QUAD_XY: 556285.27300 5281621.72400
SECONDARY_SW_QUAD_XY: 551594.85500 5281578.21100
RMSE_XY: 0.90000
IMAGE_SOURCE: BLACK AND WHITE FILM
SOURCE_IMAGE_ID: NAPP 9177 067
SOURCE_IMAGE_DATE: 1997 09 04
SOURCE_IMAGE_ID: NAPP 9177 066
SOURCE_IMAGE_DATE: 1997 09 04
SOURCE_DEM_DATE: 1971 00 00
AGENCY: WESTERN MAPPING CENTER (WMC)
PRODUCER: UNDEFINED
PRODUCTION_SYSTEM: GIS/MAGIC
COMPRESSION: UNDEFINED
STANDARD_VERSION: 1996 12
METADATA_DATE: 2000 06 12
DATA_FILE_SIZE: 41114964
BYTE_COUNT: 5412
