FILENAME: O4711022.NWS.1080004.tif
QUADRANGLE_NAME: GERALDINE NE
QUADRANT: NW
WEST_LONGITUDE: -110 22 30.00000
EAST_LONGITUDE: -110 18 45.00000
NORTH_LATITUDE: 47 45 0.00000
SOUTH_LATITUDE: 47 41 15.00000
PRODUCTION_DATE: 2000 5 12
RASTER_ORDER: LEFT_RIGHT/TOP_BOTTOM
BAND_ORGANIZATION: SINGLE FILE
BAND_CONTENT: BLACK&WHITE
BAND_CONTENT: UNDEFINED
BAND_CONTENT: UNDEFINED
BITS_PER_PIXEL: 8
SAMPLES_AND_LINES: 5407 7593
HORIZONTAL_DATUM: NAD83
HORIZONTAL_COORDINATE_SYSTEM: UTM
COORDINATE_ZONE: 12
HORIZONTAL_UNITS: METERS
HORIZONTAL_RESOLUTION: 1.00000
SECONDARY_HORIZONTAL_DATUM: NAD27
XY_ORIGIN: 546488.00000 5289044.00000
SECONDARY_XY_ORIGIN: 546546.39800 5288828.58300
NATION: US
NATION: "SCIENCE
STATE: MT
NW_QUAD_CORNER_XY: 546846.90300 5288703.50700
NE_QUAD_CORNER_XY: 551531.57300 5288743.22700
SE_QUAD_CORNERY_XY: 551593.24200 5281797.00000
SW_QUAD_CORNER_XY: 546902.96500 5281757.27200
SECONDARY_NW_QUAD_XY: 546848.37000 5288484.69900
SECONDARY_NE_QUAD_XY: 551533.18700 5288524.41900
SECONDARY_SE_QUAD_XY: 551594.85500 5281578.21100
SECONDARY_SW_QUAD_XY: 546904.43200 5281538.48200
RMSE_XY: 3.60000
IMAGE_SOURCE: BLACK AND WHITE FILM
SOURCE_IMAGE_ID: NAPP 9177 163
SOURCE_IMAGE_DATE: 1997 09 04
SOURCE_DEM_DATE: 1971 00 00
AGENCY: WESTERN MAPPING CENTER (WMC)
PRODUCER: UNDEFINED
PRODUCTION_SYSTEM: GIS/MAGIC
COMPRESSION: UNDEFINED
STANDARD_VERSION: 1996 12
METADATA_DATE: 2000 06 12
DATA_FILE_SIZE: 41060758
BYTE_COUNT: 5407
