FILENAME: O4711022.SES.1080005.tif
QUADRANGLE_NAME: GERALDINE NE
QUADRANT: SE
WEST_LONGITUDE: -110 18 45.00000
EAST_LONGITUDE: -110 15 0.00000
NORTH_LATITUDE: 47 41 15.00000
SOUTH_LATITUDE: 47 37 30.00000
PRODUCTION_DATE: 2000 5 12
RASTER_ORDER: LEFT_RIGHT/TOP_BOTTOM
BAND_ORGANIZATION: SINGLE FILE
BAND_CONTENT: BLACK&WHITE
BAND_CONTENT: UNDEFINED
BAND_CONTENT: UNDEFINED
BITS_PER_PIXEL: 8
SAMPLES_AND_LINES: 5417 7596
HORIZONTAL_DATUM: NAD83
HORIZONTAL_COORDINATE_SYSTEM: UTM
COORDINATE_ZONE: 12
HORIZONTAL_UNITS: METERS
HORIZONTAL_RESOLUTION: 1.00000
SECONDARY_HORIZONTAL_DATUM: NAD27
XY_ORIGIN: 551235.00000 5282141.00000
SECONDARY_XY_ORIGIN: 551293.54900 5281925.63300
NATION: US
NATION: "SCIENCE
STATE: MT
NW_QUAD_CORNER_XY: 551593.24200 5281797.00000
NE_QUAD_CORNER_XY: 556283.51300 5281840.51200
SE_QUAD_CORNERY_XY: 556350.72100 5274894.36800
SW_QUAD_CORNER_XY: 551654.84900 5274850.84800
SECONDARY_NW_QUAD_XY: 551594.85500 5281578.21100
SECONDARY_NE_QUAD_XY: 556285.27300 5281621.72400
SECONDARY_SE_QUAD_XY: 556352.48100 5274675.60100
SECONDARY_SW_QUAD_XY: 551656.46200 5274632.07900
RMSE_XY: 1.00000
IMAGE_SOURCE: BLACK AND WHITE FILM
SOURCE_IMAGE_ID: NAPP 9177 065
SOURCE_IMAGE_DATE: 1997 09 04
SOURCE_IMAGE_ID: NAPP 9177 063
SOURCE_IMAGE_DATE: 1997 09 04
SOURCE_DEM_DATE: 1971 00 00
AGENCY: WESTERN MAPPING CENTER (WMC)
PRODUCER: UNDEFINED
PRODUCTION_SYSTEM: GIS/MAGIC
COMPRESSION: UNDEFINED
STANDARD_VERSION: 1996 12
METADATA_DATE: 2000 06 12
DATA_FILE_SIZE: 41152949
BYTE_COUNT: 5417
