FILENAME: O4711022.SWS.1080006.tif
QUADRANGLE_NAME: GERALDINE NE
QUADRANT: SW
WEST_LONGITUDE: -110 22 30.00000
EAST_LONGITUDE: -110 18 45.00000
NORTH_LATITUDE: 47 41 15.00000
SOUTH_LATITUDE: 47 37 30.00000
PRODUCTION_DATE: 2000 5 12
RASTER_ORDER: LEFT_RIGHT/TOP_BOTTOM
BAND_ORGANIZATION: SINGLE FILE
BAND_CONTENT: BLACK&WHITE
BAND_CONTENT: UNDEFINED
BAND_CONTENT: UNDEFINED
BITS_PER_PIXEL: 8
SAMPLES_AND_LINES: 5412 7592
HORIZONTAL_DATUM: NAD83
HORIZONTAL_COORDINATE_SYSTEM: UTM
COORDINATE_ZONE: 12
HORIZONTAL_UNITS: METERS
HORIZONTAL_RESOLUTION: 1.00000
SECONDARY_HORIZONTAL_DATUM: NAD27
XY_ORIGIN: 546544.00000 5282097.00000
SECONDARY_XY_ORIGIN: 546602.51700 5281881.66500
NATION: US
NATION: "SCIENCE
STATE: MT
NW_QUAD_CORNER_XY: 546902.96500 5281757.27200
NE_QUAD_CORNER_XY: 551593.24200 5281797.00000
SE_QUAD_CORNERY_XY: 551654.84900 5274850.84800
SW_QUAD_CORNER_XY: 546958.97100 5274811.11300
SECONDARY_NW_QUAD_XY: 546904.43200 5281538.48200
SECONDARY_NE_QUAD_XY: 551594.85500 5281578.21100
SECONDARY_SE_QUAD_XY: 551656.46200 5274632.07900
SECONDARY_SW_QUAD_XY: 546960.43700 5274592.34200
RMSE_XY: 0.70000
IMAGE_SOURCE: BLACK AND WHITE FILM
SOURCE_IMAGE_ID: NAPP 9177 165
SOURCE_IMAGE_DATE: 1997 09 04
SOURCE_DEM_DATE: 1971 00 00
AGENCY: WESTERN MAPPING CENTER (WMC)
PRODUCER: UNDEFINED
PRODUCTION_SYSTEM: GIS/MAGIC
COMPRESSION: UNDEFINED
STANDARD_VERSION: 1996 12
METADATA_DATE: 2000 06 12
DATA_FILE_SIZE: 41093316
BYTE_COUNT: 5412
