FILENAME: O4711021.NWS.1079992.tif
QUADRANGLE_NAME: MONTAGUE
QUADRANT: NW
WEST_LONGITUDE: -110 30 0.00000
EAST_LONGITUDE: -110 26 15.00000
NORTH_LATITUDE: 47 45 0.00000
SOUTH_LATITUDE: 47 41 15.00000
PRODUCTION_DATE: 2000 5 10
RASTER_ORDER: LEFT_RIGHT/TOP_BOTTOM
BAND_ORGANIZATION: SINGLE FILE
BAND_CONTENT: BLACK&WHITE
BAND_CONTENT: UNDEFINED
BAND_CONTENT: UNDEFINED
BITS_PER_PIXEL: 8
SAMPLES_AND_LINES: 5395 7585
HORIZONTAL_DATUM: NAD83
HORIZONTAL_COORDINATE_SYSTEM: UTM
COORDINATE_ZONE: 12
HORIZONTAL_UNITS: METERS
HORIZONTAL_RESOLUTION: 1.00000
SECONDARY_HORIZONTAL_DATUM: NAD27
XY_ORIGIN: 537119.00000 5288968.00000
SECONDARY_XY_ORIGIN: 537177.32400 5288752.63900
NATION: US
NATION: "SCIENCE
STATE: MT
NW_QUAD_CORNER_XY: 537477.54800 5288635.41700
NE_QUAD_CORNER_XY: 542162.22800 5288667.57100
SE_QUAD_CORNERY_XY: 542212.68400 5281721.32800
SW_QUAD_CORNER_XY: 537522.39700 5281689.16800
SECONDARY_NW_QUAD_XY: 537478.72100 5288416.60600
SECONDARY_NE_QUAD_XY: 542163.54800 5288448.76100
SECONDARY_SE_QUAD_XY: 542214.00300 5281502.53700
SECONDARY_SW_QUAD_XY: 537523.57000 5281470.37600
RMSE_XY: 1.90000
IMAGE_SOURCE: BLACK AND WHITE FILM
SOURCE_IMAGE_ID: NAPP 9164 219
SOURCE_IMAGE_DATE: 1996 07 27
SOURCE_DEM_DATE: 1971 00 00
AGENCY: WESTERN MAPPING CENTER (WMC)
PRODUCER: UNDEFINED
PRODUCTION_SYSTEM: GIS/MAGIC
COMPRESSION: UNDEFINED
STANDARD_VERSION: 1996 12
METADATA_DATE: 2000 06 12
DATA_FILE_SIZE: 40926470
BYTE_COUNT: 5395
