FILENAME: O4711021.SWS.1079994.tif
QUADRANGLE_NAME: MONTAGUE
QUADRANT: SW
WEST_LONGITUDE: -110 30 0.00000
EAST_LONGITUDE: -110 26 15.00000
NORTH_LATITUDE: 47 41 15.00000
SOUTH_LATITUDE: 47 37 30.00000
PRODUCTION_DATE: 2000 5 10
RASTER_ORDER: LEFT_RIGHT/TOP_BOTTOM
BAND_ORGANIZATION: SINGLE FILE
BAND_CONTENT: BLACK&WHITE
BAND_CONTENT: UNDEFINED
BAND_CONTENT: UNDEFINED
BITS_PER_PIXEL: 8
SAMPLES_AND_LINES: 5401 7585
HORIZONTAL_DATUM: NAD83
HORIZONTAL_COORDINATE_SYSTEM: UTM
COORDINATE_ZONE: 12
HORIZONTAL_UNITS: METERS
HORIZONTAL_RESOLUTION: 1.00000
SECONDARY_HORIZONTAL_DATUM: NAD27
XY_ORIGIN: 537164.00000 5282022.00000
SECONDARY_XY_ORIGIN: 537222.45400 5281806.73000
NATION: US
NATION: "SCIENCE
STATE: MT
NW_QUAD_CORNER_XY: 537522.39700 5281689.16800
NE_QUAD_CORNER_XY: 542212.68400 5281721.32800
SE_QUAD_CORNERY_XY: 542263.08800 5274775.16200
SW_QUAD_CORNER_XY: 537567.20100 5274742.99500
SECONDARY_NW_QUAD_XY: 537523.57000 5281470.37600
SECONDARY_NE_QUAD_XY: 542214.00300 5281502.53700
SECONDARY_SE_QUAD_XY: 542264.40800 5274556.39000
SECONDARY_SW_QUAD_XY: 537568.37400 5274524.22300
RMSE_XY: 1.40000
IMAGE_SOURCE: BLACK AND WHITE FILM
SOURCE_IMAGE_ID: NAPP 9164 221
SOURCE_IMAGE_DATE: 1996 07 27
SOURCE_IMAGE_ID: NAPP 9184 014
SOURCE_IMAGE_DATE: 1997 09 23
SOURCE_DEM_DATE: 1971 00 00
AGENCY: WESTERN MAPPING CENTER (WMC)
PRODUCER: UNDEFINED
PRODUCTION_SYSTEM: GIS/MAGIC
COMPRESSION: UNDEFINED
STANDARD_VERSION: 1996 12
METADATA_DATE: 2000 06 12
DATA_FILE_SIZE: 40971986
BYTE_COUNT: 5401
