FILENAME: O4711020.NES.1079983.tif
QUADRANGLE_NAME: SHONKIN
QUADRANT: NE
WEST_LONGITUDE: -110 33 45.00000
EAST_LONGITUDE: -110 30 0.00000
NORTH_LATITUDE: 47 45 0.00000
SOUTH_LATITUDE: 47 41 15.00000
PRODUCTION_DATE: 2000 5 10
RASTER_ORDER: LEFT_RIGHT/TOP_BOTTOM
BAND_ORGANIZATION: SINGLE FILE
BAND_CONTENT: BLACK&WHITE
BAND_CONTENT: UNDEFINED
BAND_CONTENT: UNDEFINED
BITS_PER_PIXEL: 8
SAMPLES_AND_LINES: 5390 7581
HORIZONTAL_DATUM: NAD83
HORIZONTAL_COORDINATE_SYSTEM: UTM
COORDINATE_ZONE: 12
HORIZONTAL_UNITS: METERS
HORIZONTAL_RESOLUTION: 1.00000
SECONDARY_HORIZONTAL_DATUM: NAD27
XY_ORIGIN: 532434.00000 5288936.00000
SECONDARY_XY_ORIGIN: 532492.33800 5288720.69800
NATION: US
NATION: "SCIENCE
STATE: MT
NW_QUAD_CORNER_XY: 532792.86400 5288607.04600
NE_QUAD_CORNER_XY: 537477.54800 5288635.41700
SE_QUAD_CORNERY_XY: 537522.39700 5281689.16800
SW_QUAD_CORNER_XY: 532832.10600 5281660.79200
SECONDARY_NW_QUAD_XY: 532793.89000 5288388.23500
SECONDARY_NE_QUAD_XY: 537478.72100 5288416.60600
SECONDARY_SE_QUAD_XY: 537523.57000 5281470.37600
SECONDARY_SW_QUAD_XY: 532833.13300 5281441.99900
RMSE_XY: 1.00000
IMAGE_SOURCE: BLACK AND WHITE FILM
SOURCE_IMAGE_ID: NAPP 9167 074
SOURCE_IMAGE_DATE: 1996 08 26
SOURCE_IMAGE_ID: NAPP 9167 072
SOURCE_IMAGE_DATE: 1996 08 26
SOURCE_DEM_DATE: 1971 00 00
AGENCY: WESTERN MAPPING CENTER (WMC)
PRODUCER: UNDEFINED
PRODUCTION_SYSTEM: GIS/MAGIC
COMPRESSION: UNDEFINED
STANDARD_VERSION: 1996 12
METADATA_DATE: 2000 06 12
DATA_FILE_SIZE: 40866980
BYTE_COUNT: 5390
