FILENAME: O4711019.SWS.1079982.tif
QUADRANGLE_NAME: SHONKIN NW
QUADRANT: SW
WEST_LONGITUDE: -110 45 0.00000
EAST_LONGITUDE: -110 41 15.00000
NORTH_LATITUDE: 47 41 15.00000
SOUTH_LATITUDE: 47 37 30.00000
PRODUCTION_DATE: 2000 5 10
RASTER_ORDER: LEFT_RIGHT/TOP_BOTTOM
BAND_ORGANIZATION: SINGLE FILE
BAND_CONTENT: BLACK&WHITE
BAND_CONTENT: UNDEFINED
BAND_CONTENT: UNDEFINED
BITS_PER_PIXEL: 8
SAMPLES_AND_LINES: 5379 7570
HORIZONTAL_DATUM: NAD83
HORIZONTAL_COORDINATE_SYSTEM: UTM
COORDINATE_ZONE: 12
HORIZONTAL_UNITS: METERS
HORIZONTAL_RESOLUTION: 1.00000
SECONDARY_HORIZONTAL_DATUM: NAD27
XY_ORIGIN: 518402.00000 5281916.00000
SECONDARY_XY_ORIGIN: 518460.55700 5281700.92100
NATION: US
NATION: "SCIENCE
STATE: MT
NW_QUAD_CORNER_XY: 518761.21500 5281598.36400
NE_QUAD_CORNER_XY: 523451.51500 5281615.39000
SE_QUAD_CORNERY_XY: 523479.51700 5274669.20200
SW_QUAD_CORNER_XY: 518783.61700 5274652.17300
SECONDARY_NW_QUAD_XY: 518761.80200 5281379.57000
SECONDARY_NE_QUAD_XY: 523452.24800 5281396.59600
SECONDARY_SE_QUAD_XY: 523480.25000 5274450.42700
SECONDARY_SW_QUAD_XY: 518784.20300 5274433.39800
RMSE_XY: 1.10000
IMAGE_SOURCE: BLACK AND WHITE FILM
SOURCE_IMAGE_ID: NAPP 9167 258
SOURCE_IMAGE_DATE: 1996 08 26
SOURCE_IMAGE_ID: NAPP 9167 257
SOURCE_IMAGE_DATE: 1996 08 26
SOURCE_DEM_DATE: 1971 00 00
AGENCY: WESTERN MAPPING CENTER (WMC)
PRODUCER: UNDEFINED
PRODUCTION_SYSTEM: GIS/MAGIC
COMPRESSION: UNDEFINED
STANDARD_VERSION: 1996 12
METADATA_DATE: 2000 06 12
DATA_FILE_SIZE: 40724409
BYTE_COUNT: 5379
