FILENAME: O4711018.NWS.1079968.tif
QUADRANGLE_NAME: RICE RESERVOIR
QUADRANT: NW
WEST_LONGITUDE: -110 52 30.00000
EAST_LONGITUDE: -110 48 45.00000
NORTH_LATITUDE: 47 45 0.00000
SOUTH_LATITUDE: 47 41 15.00000
PRODUCTION_DATE: 2000 5 10
RASTER_ORDER: LEFT_RIGHT/TOP_BOTTOM
BAND_ORGANIZATION: SINGLE FILE
BAND_CONTENT: BLACK&WHITE
BAND_CONTENT: UNDEFINED
BAND_CONTENT: UNDEFINED
BITS_PER_PIXEL: 8
SAMPLES_AND_LINES: 5362 7563
HORIZONTAL_DATUM: NAD83
HORIZONTAL_COORDINATE_SYSTEM: UTM
COORDINATE_ZONE: 12
HORIZONTAL_UNITS: METERS
HORIZONTAL_RESOLUTION: 1.00000
SECONDARY_HORIZONTAL_DATUM: NAD27
XY_ORIGIN: 509010.00000 5288832.00000
SECONDARY_XY_ORIGIN: 509068.55700 5288616.93500
NATION: US
NATION: "SCIENCE
STATE: MT
NW_QUAD_CORNER_XY: 509369.39800 5288521.93600
NE_QUAD_CORNER_XY: 514054.09500 5288531.39200
SE_QUAD_CORNERY_XY: 514070.91300 5281585.12200
SW_QUAD_CORNER_XY: 509380.61000 5281575.66400
SECONDARY_NW_QUAD_XY: 509369.69100 5288303.12100
SECONDARY_NE_QUAD_XY: 514054.53500 5288312.57800
SECONDARY_SE_QUAD_XY: 514071.35300 5281366.32700
SECONDARY_SW_QUAD_XY: 509380.90300 5281356.86800
RMSE_XY: 1.40000
IMAGE_SOURCE: BLACK AND WHITE FILM
SOURCE_IMAGE_ID: NAPP 9168 050
SOURCE_IMAGE_DATE: 1996 08 26
SOURCE_IMAGE_ID: NAPP 9168 049
SOURCE_IMAGE_DATE: 1996 08 26
SOURCE_IMAGE_ID: NAPP 9167 280
SOURCE_IMAGE_DATE: 1996 08 26
SOURCE_DEM_DATE: 1952 00 00
AGENCY: WESTERN MAPPING CENTER (WMC)
PRODUCER: UNDEFINED
PRODUCTION_SYSTEM: GIS/MAGIC
COMPRESSION: UNDEFINED
STANDARD_VERSION: 1996 12
METADATA_DATE: 2000 06 12
DATA_FILE_SIZE: 40558168
BYTE_COUNT: 5362
