FILENAME: O4711017.NES.1078206.tif
QUADRANGLE_NAME: LANDER CROSSING
QUADRANT: NE
WEST_LONGITUDE: -110 56 15.00000
EAST_LONGITUDE: -110 52 30.00000
NORTH_LATITUDE: 47 45 0.00000
SOUTH_LATITUDE: 47 41 15.00000
PRODUCTION_DATE: 2000 5 8
RASTER_ORDER: LEFT_RIGHT/TOP_BOTTOM
BAND_ORGANIZATION: SINGLE FILE
BAND_CONTENT: BLACK&WHITE
BAND_CONTENT: UNDEFINED
BAND_CONTENT: UNDEFINED
BITS_PER_PIXEL: 8
SAMPLES_AND_LINES: 5357 7558
HORIZONTAL_DATUM: NAD83
HORIZONTAL_COORDINATE_SYSTEM: UTM
COORDINATE_ZONE: 12
HORIZONTAL_UNITS: METERS
HORIZONTAL_RESOLUTION: 1.00000
SECONDARY_HORIZONTAL_DATUM: NAD27
XY_ORIGIN: 504325.00000 5288822.00000
SECONDARY_XY_ORIGIN: 504383.64400 5288606.96400
NATION: US
NATION: "SCIENCE
STATE: MT
NW_QUAD_CORNER_XY: 504684.69900 5288516.26200
NE_QUAD_CORNER_XY: 509369.39800 5288521.93600
SE_QUAD_CORNERY_XY: 509380.61000 5281575.66400
SW_QUAD_CORNER_XY: 504690.30500 5281569.98800
SECONDARY_NW_QUAD_XY: 504684.84600 5288297.44700
SECONDARY_NE_QUAD_XY: 509369.69100 5288303.12100
SECONDARY_SE_QUAD_XY: 509380.90300 5281356.86800
SECONDARY_SW_QUAD_XY: 504690.45200 5281351.19300
RMSE_XY: 1.30000
IMAGE_SOURCE: BLACK AND WHITE FILM
SOURCE_IMAGE_ID: NAPP 9168 081
SOURCE_IMAGE_DATE: 1996 08 26
SOURCE_IMAGE_ID: NAPP 9168 082
SOURCE_IMAGE_DATE: 1996 08 26
SOURCE_IMAGE_ID: NAPP 9168 049
SOURCE_IMAGE_DATE: 1996 08 26
SOURCE_DEM_DATE: 1952 00 00
AGENCY: WESTERN MAPPING CENTER (WMC)
PRODUCER: UNDEFINED
PRODUCTION_SYSTEM: GIS/MAGIC
COMPRESSION: UNDEFINED
STANDARD_VERSION: 1996 12
METADATA_DATE: 2000 06 02
DATA_FILE_SIZE: 40493563
BYTE_COUNT: 5357
