FILENAME: O4711017.SES.1078208.tif
QUADRANGLE_NAME: LANDER CROSSING
QUADRANT: SE
WEST_LONGITUDE: -110 56 15.00000
EAST_LONGITUDE: -110 52 30.00000
NORTH_LATITUDE: 47 41 15.00000
SOUTH_LATITUDE: 47 37 30.00000
PRODUCTION_DATE: 2000 5 8
RASTER_ORDER: LEFT_RIGHT/TOP_BOTTOM
BAND_ORGANIZATION: SINGLE FILE
BAND_CONTENT: BLACK&WHITE
BAND_CONTENT: UNDEFINED
BAND_CONTENT: UNDEFINED
BITS_PER_PIXEL: 8
SAMPLES_AND_LINES: 5363 7558
HORIZONTAL_DATUM: NAD83
HORIZONTAL_COORDINATE_SYSTEM: UTM
COORDINATE_ZONE: 12
HORIZONTAL_UNITS: METERS
HORIZONTAL_RESOLUTION: 1.00000
SECONDARY_HORIZONTAL_DATUM: NAD27
XY_ORIGIN: 504330.00000 5281876.00000
SECONDARY_XY_ORIGIN: 504389.04800 5281660.91500
NATION: US
NATION: "SCIENCE
STATE: MT
NW_QUAD_CORNER_XY: 504690.30500 5281569.98800
NE_QUAD_CORNER_XY: 509380.61000 5281575.66400
SE_QUAD_CORNERY_XY: 509391.81000 5274629.46800
SW_QUAD_CORNER_XY: 504695.90500 5274623.79100
SECONDARY_NW_QUAD_XY: 504690.45200 5281351.19300
SECONDARY_NE_QUAD_XY: 509380.90300 5281356.86800
SECONDARY_SE_QUAD_XY: 509392.10400 5274410.69200
SECONDARY_SW_QUAD_XY: 504696.05200 5274405.01500
RMSE_XY: 2.20000
IMAGE_SOURCE: BLACK AND WHITE FILM
SOURCE_IMAGE_ID: NAPP 9168 079
SOURCE_IMAGE_DATE: 1996 08 26
SOURCE_IMAGE_ID: NAPP 9168 080
SOURCE_IMAGE_DATE: 1996 08 26
SOURCE_DEM_DATE: 1952 00 00
AGENCY: WESTERN MAPPING CENTER (WMC)
PRODUCER: UNDEFINED
PRODUCTION_SYSTEM: GIS/MAGIC
COMPRESSION: UNDEFINED
STANDARD_VERSION: 1996 12
METADATA_DATE: 2000 06 02
DATA_FILE_SIZE: 40538917
BYTE_COUNT: 5363
