FILENAME: O4711016.SWS.1081040.tif
QUADRANGLE_NAME: EAGLE BUTTES
QUADRANT: SW
WEST_LONGITUDE: -110 7 30.00000
EAST_LONGITUDE: -110 3 45.00000
NORTH_LATITUDE: 47 48 45.00000
SOUTH_LATITUDE: 47 45 0.00000
PRODUCTION_DATE: 2000 5 24
RASTER_ORDER: LEFT_RIGHT/TOP_BOTTOM
BAND_ORGANIZATION: SINGLE FILE
BAND_CONTENT: BLACK&WHITE
BAND_CONTENT: UNDEFINED
BAND_CONTENT: UNDEFINED
BITS_PER_PIXEL: 8
SAMPLES_AND_LINES: 5423 7608
HORIZONTAL_DATUM: NAD83
HORIZONTAL_COORDINATE_SYSTEM: UTM
COORDINATE_ZONE: 12
HORIZONTAL_UNITS: METERS
HORIZONTAL_RESOLUTION: 1.00000
SECONDARY_HORIZONTAL_DATUM: NAD27
XY_ORIGIN: 565149.00000 5296187.00000
SECONDARY_XY_ORIGIN: 565207.61100 5295971.42400
NATION: US
NATION: "SCIENCE
STATE: MT
NW_QUAD_CORNER_XY: 565506.97900 5295831.35700
NE_QUAD_CORNER_XY: 570186.01000 5295886.19800
SE_QUAD_CORNERY_XY: 570270.19000 5288939.93700
SW_QUAD_CORNER_XY: 565585.54700 5288885.08500
SECONDARY_NW_QUAD_XY: 565509.03200 5295612.53600
SECONDARY_NE_QUAD_XY: 570188.21000 5295667.37900
SECONDARY_SE_QUAD_XY: 570272.39000 5288721.13600
SECONDARY_SW_QUAD_XY: 565587.60000 5288666.28200
RMSE_XY: 3.40000
IMAGE_SOURCE: BLACK AND WHITE FILM
SOURCE_IMAGE_ID: NAPP 9178 277
SOURCE_IMAGE_DATE: 1997 09 04
SOURCE_IMAGE_ID: NAPP 9178 276
SOURCE_IMAGE_DATE: 1997 09 04
SOURCE_DEM_DATE: 1992 00 00
AGENCY: WESTERN MAPPING CENTER (WMC)
PRODUCER: UNDEFINED
PRODUCTION_SYSTEM: GIS/MAGIC
COMPRESSION: UNDEFINED
STANDARD_VERSION: 1996 12
METADATA_DATE: 2000 06 13
DATA_FILE_SIZE: 41263607
BYTE_COUNT: 5423
