FILENAME: O4711015.SWS.1081024.tif
QUADRANGLE_NAME: EAGLE BUTTES SW
QUADRANT: SW
WEST_LONGITUDE: -110 15 0.00000
EAST_LONGITUDE: -110 11 15.00000
NORTH_LATITUDE: 47 48 45.00000
SOUTH_LATITUDE: 47 45 0.00000
PRODUCTION_DATE: 2000 5 24
RASTER_ORDER: LEFT_RIGHT/TOP_BOTTOM
BAND_ORGANIZATION: SINGLE FILE
BAND_CONTENT: BLACK&WHITE
BAND_CONTENT: UNDEFINED
BAND_CONTENT: UNDEFINED
BITS_PER_PIXEL: 8
SAMPLES_AND_LINES: 5411 7600
HORIZONTAL_DATUM: NAD83
HORIZONTAL_COORDINATE_SYSTEM: UTM
COORDINATE_ZONE: 12
HORIZONTAL_UNITS: METERS
HORIZONTAL_RESOLUTION: 1.00000
SECONDARY_HORIZONTAL_DATUM: NAD27
XY_ORIGIN: 555791.00000 5296081.00000
SECONDARY_XY_ORIGIN: 555849.52200 5295865.56300
NATION: US
NATION: "SCIENCE
STATE: MT
NW_QUAD_CORNER_XY: 556148.89500 5295733.02200
NE_QUAD_CORNER_XY: 560827.94000 5295780.29800
SE_QUAD_CORNERY_XY: 560900.89600 5288834.01500
SW_QUAD_CORNER_XY: 556216.23800 5288786.72900
SECONDARY_NW_QUAD_XY: 556150.65500 5295514.19800
SECONDARY_NE_QUAD_XY: 560829.84700 5295561.47600
SECONDARY_SE_QUAD_XY: 560902.80200 5288615.21100
SECONDARY_SW_QUAD_XY: 556217.99800 5288567.92300
RMSE_XY: 3.00000
IMAGE_SOURCE: BLACK AND WHITE FILM
SOURCE_IMAGE_ID: NAPP 9177 050
SOURCE_IMAGE_DATE: 1997 09 04
SOURCE_DEM_DATE: 1993 00 00
AGENCY: WESTERN MAPPING CENTER (WMC)
PRODUCER: UNDEFINED
PRODUCTION_SYSTEM: GIS/MAGIC
COMPRESSION: UNDEFINED
STANDARD_VERSION: 1996 12
METADATA_DATE: 2000 06 13
DATA_FILE_SIZE: 41129011
BYTE_COUNT: 5411
