FILENAME: O4711014.NES.1081009.tif
QUADRANGLE_NAME: STRANAHAN SE
QUADRANT: NE
WEST_LONGITUDE: -110 18 45.00000
EAST_LONGITUDE: -110 15 0.00000
NORTH_LATITUDE: 47 52 30.00000
SOUTH_LATITUDE: 47 48 45.00000
PRODUCTION_DATE: 2000 5 24
RASTER_ORDER: LEFT_RIGHT/TOP_BOTTOM
BAND_ORGANIZATION: SINGLE FILE
BAND_CONTENT: BLACK&WHITE
BAND_CONTENT: UNDEFINED
BAND_CONTENT: UNDEFINED
BITS_PER_PIXEL: 8
SAMPLES_AND_LINES: 5400 7596
HORIZONTAL_DATUM: NAD83
HORIZONTAL_COORDINATE_SYSTEM: UTM
COORDINATE_ZONE: 12
HORIZONTAL_UNITS: METERS
HORIZONTAL_RESOLUTION: 1.00000
SECONDARY_HORIZONTAL_DATUM: NAD27
XY_ORIGIN: 551050.00000 5302980.00000
SECONDARY_XY_ORIGIN: 551108.53200 5302764.59900
NATION: US
NATION: "SCIENCE
STATE: MT
NW_QUAD_CORNER_XY: 551408.05100 5302635.90500
NE_QUAD_CORNER_XY: 556081.48500 5302679.38900
SE_QUAD_CORNERY_XY: 556148.89500 5295733.02200
SW_QUAD_CORNER_XY: 551469.84300 5295689.52800
SECONDARY_NW_QUAD_XY: 551409.66400 5302417.06300
SECONDARY_NE_QUAD_XY: 556083.24500 5302460.54900
SECONDARY_SE_QUAD_XY: 556150.65500 5295514.19800
SECONDARY_SW_QUAD_XY: 551471.45600 5295470.70300
RMSE_XY: 1.30000
IMAGE_SOURCE: BLACK AND WHITE FILM
SOURCE_IMAGE_ID: NAPP 9177 071
SOURCE_IMAGE_DATE: 1997 09 04
SOURCE_IMAGE_ID: NAPP 9177 072
SOURCE_IMAGE_DATE: 1997 09 04
SOURCE_DEM_DATE: 1990 00 00
AGENCY: WESTERN MAPPING CENTER (WMC)
PRODUCER: UNDEFINED
PRODUCTION_SYSTEM: GIS/MAGIC
COMPRESSION: UNDEFINED
STANDARD_VERSION: 1996 12
METADATA_DATE: 2000 06 13
DATA_FILE_SIZE: 41023800
BYTE_COUNT: 5400
