FILENAME: O4711014.SES.1081011.tif
QUADRANGLE_NAME: STRANAHAN SE
QUADRANT: SE
WEST_LONGITUDE: -110 18 45.00000
EAST_LONGITUDE: -110 15 0.00000
NORTH_LATITUDE: 47 48 45.00000
SOUTH_LATITUDE: 47 45 0.00000
PRODUCTION_DATE: 2000 5 24
RASTER_ORDER: LEFT_RIGHT/TOP_BOTTOM
BAND_ORGANIZATION: SINGLE FILE
BAND_CONTENT: BLACK&WHITE
BAND_CONTENT: UNDEFINED
BAND_CONTENT: UNDEFINED
BITS_PER_PIXEL: 8
SAMPLES_AND_LINES: 5407 7597
HORIZONTAL_DATUM: NAD83
HORIZONTAL_COORDINATE_SYSTEM: UTM
COORDINATE_ZONE: 12
HORIZONTAL_UNITS: METERS
HORIZONTAL_RESOLUTION: 1.00000
SECONDARY_HORIZONTAL_DATUM: NAD27
XY_ORIGIN: 551111.00000 5296034.00000
SECONDARY_XY_ORIGIN: 551169.48700 5295818.58000
NATION: US
NATION: "SCIENCE
STATE: MT
NW_QUAD_CORNER_XY: 551469.84300 5295689.52800
NE_QUAD_CORNER_XY: 556148.89500 5295733.02200
SE_QUAD_CORNERY_XY: 556216.23800 5288786.72900
SW_QUAD_CORNER_XY: 551531.57300 5288743.22700
SECONDARY_NW_QUAD_XY: 551471.45600 5295470.70300
SECONDARY_NE_QUAD_XY: 556150.65500 5295514.19800
SECONDARY_SE_QUAD_XY: 556217.99800 5288567.92300
SECONDARY_SW_QUAD_XY: 551533.18700 5288524.41900
RMSE_XY: 1.40000
IMAGE_SOURCE: BLACK AND WHITE FILM
SOURCE_IMAGE_ID: NAPP 9177 069
SOURCE_IMAGE_DATE: 1997 09 04
SOURCE_IMAGE_ID: NAPP 9177 070
SOURCE_IMAGE_DATE: 1997 09 04
SOURCE_DEM_DATE: 1990 00 00
AGENCY: WESTERN MAPPING CENTER (WMC)
PRODUCER: UNDEFINED
PRODUCTION_SYSTEM: GIS/MAGIC
COMPRESSION: UNDEFINED
STANDARD_VERSION: 1996 12
METADATA_DATE: 2000 06 13
DATA_FILE_SIZE: 41082386
BYTE_COUNT: 5407
