FILENAME: O4711013.NWS.1080994.tif
QUADRANGLE_NAME: ROCKY LAKE
QUADRANT: NW
WEST_LONGITUDE: -110 30 0.00000
EAST_LONGITUDE: -110 26 15.00000
NORTH_LATITUDE: 47 52 30.00000
SOUTH_LATITUDE: 47 48 45.00000
PRODUCTION_DATE: 2000 5 22
RASTER_ORDER: LEFT_RIGHT/TOP_BOTTOM
BAND_ORGANIZATION: SINGLE FILE
BAND_CONTENT: BLACK&WHITE
BAND_CONTENT: UNDEFINED
BAND_CONTENT: UNDEFINED
BITS_PER_PIXEL: 8
SAMPLES_AND_LINES: 5384 7585
HORIZONTAL_DATUM: NAD83
HORIZONTAL_COORDINATE_SYSTEM: UTM
COORDINATE_ZONE: 12
HORIZONTAL_UNITS: METERS
HORIZONTAL_RESOLUTION: 1.00000
SECONDARY_HORIZONTAL_DATUM: NAD27
XY_ORIGIN: 537029.00000 5302861.00000
SECONDARY_XY_ORIGIN: 537087.43400 5302645.62700
NATION: US
NATION: "SCIENCE
STATE: MT
NW_QUAD_CORNER_XY: 537387.71500 5302528.14100
NE_QUAD_CORNER_XY: 542061.16500 5302560.28100
SE_QUAD_CORNERY_XY: 542111.72200 5295613.88800
SW_QUAD_CORNER_XY: 537432.65400 5295581.74100
SECONDARY_NW_QUAD_XY: 537388.88900 5302309.29500
SECONDARY_NE_QUAD_XY: 542062.48600 5302341.43600
SECONDARY_SE_QUAD_XY: 542113.04200 5295395.06100
SECONDARY_SW_QUAD_XY: 537433.82700 5295362.91300
RMSE_XY: 2.40000
IMAGE_SOURCE: BLACK AND WHITE FILM
SOURCE_IMAGE_ID: NAPP 9164 215
SOURCE_IMAGE_DATE: 1996 07 27
SOURCE_IMAGE_ID: NAPP 9167 079
SOURCE_IMAGE_DATE: 1996 08 26
SOURCE_IMAGE_ID: NAPP 9164 214
SOURCE_IMAGE_DATE: 1996 07 27
SOURCE_DEM_DATE: 1988 00 00
AGENCY: WESTERN MAPPING CENTER (WMC)
PRODUCER: UNDEFINED
PRODUCTION_SYSTEM: GIS/MAGIC
COMPRESSION: UNDEFINED
STANDARD_VERSION: 1996 12
METADATA_DATE: 2000 06 13
DATA_FILE_SIZE: 40843024
BYTE_COUNT: 5384
