FILENAME: O4711013.SES.1080995.tif
QUADRANGLE_NAME: ROCKY LAKE
QUADRANT: SE
WEST_LONGITUDE: -110 26 15.00000
EAST_LONGITUDE: -110 22 30.00000
NORTH_LATITUDE: 47 48 45.00000
SOUTH_LATITUDE: 47 45 0.00000
PRODUCTION_DATE: 2000 5 22
RASTER_ORDER: LEFT_RIGHT/TOP_BOTTOM
BAND_ORGANIZATION: SINGLE FILE
BAND_CONTENT: BLACK&WHITE
BAND_CONTENT: UNDEFINED
BAND_CONTENT: UNDEFINED
BITS_PER_PIXEL: 8
SAMPLES_AND_LINES: 5395 7588
HORIZONTAL_DATUM: NAD83
HORIZONTAL_COORDINATE_SYSTEM: UTM
COORDINATE_ZONE: 12
HORIZONTAL_UNITS: METERS
HORIZONTAL_RESOLUTION: 1.00000
SECONDARY_HORIZONTAL_DATUM: NAD27
XY_ORIGIN: 541753.00000 5295950.00000
SECONDARY_XY_ORIGIN: 541811.41700 5295734.61700
NATION: US
NATION: "SCIENCE
STATE: MT
NW_QUAD_CORNER_XY: 542111.72200 5295613.88800
NE_QUAD_CORNER_XY: 546790.78500 5295649.81700
SE_QUAD_CORNERY_XY: 546846.90300 5288703.50700
SW_QUAD_CORNER_XY: 542162.22800 5288667.57100
SECONDARY_NW_QUAD_XY: 542113.04200 5295395.06100
SECONDARY_NE_QUAD_XY: 546792.25200 5295430.99100
SECONDARY_SE_QUAD_XY: 546848.37000 5288484.69900
SECONDARY_SW_QUAD_XY: 542163.54800 5288448.76100
RMSE_XY: 2.00000
IMAGE_SOURCE: BLACK AND WHITE FILM
SOURCE_IMAGE_ID: NAPP 9164 202
SOURCE_IMAGE_DATE: 1996 07 27
SOURCE_IMAGE_ID: NAPP 9164 200
SOURCE_IMAGE_DATE: 1996 07 27
SOURCE_DEM_DATE: 1988 00 00
AGENCY: WESTERN MAPPING CENTER (WMC)
PRODUCER: UNDEFINED
PRODUCTION_SYSTEM: GIS/MAGIC
COMPRESSION: UNDEFINED
STANDARD_VERSION: 1996 12
METADATA_DATE: 2000 06 13
DATA_FILE_SIZE: 40942655
BYTE_COUNT: 5395
