FILENAME: O4711012.NES.1080843.tif
QUADRANGLE_NAME: O'HANLON COULEE
QUADRANT: NE
WEST_LONGITUDE: -110 33 45.00000
EAST_LONGITUDE: -110 30 0.00000
NORTH_LATITUDE: 47 52 30.00000
SOUTH_LATITUDE: 47 48 45.00000
PRODUCTION_DATE: 2000 5 19
RASTER_ORDER: LEFT_RIGHT/TOP_BOTTOM
BAND_ORGANIZATION: SINGLE FILE
BAND_CONTENT: BLACK&WHITE
BAND_CONTENT: UNDEFINED
BAND_CONTENT: UNDEFINED
BITS_PER_PIXEL: 8
SAMPLES_AND_LINES: 5379 7582
HORIZONTAL_DATUM: NAD83
HORIZONTAL_COORDINATE_SYSTEM: UTM
COORDINATE_ZONE: 12
HORIZONTAL_UNITS: METERS
HORIZONTAL_RESOLUTION: 1.00000
SECONDARY_HORIZONTAL_DATUM: NAD27
XY_ORIGIN: 532355.00000 5302829.00000
SECONDARY_XY_ORIGIN: 532413.43300 5302613.67500
NATION: US
NATION: "SCIENCE
STATE: MT
NW_QUAD_CORNER_XY: 532714.26000 5302499.78200
NE_QUAD_CORNER_XY: 537387.71500 5302528.14100
SE_QUAD_CORNERY_XY: 537432.65400 5295581.74100
SW_QUAD_CORNER_XY: 532753.58200 5295553.37700
SECONDARY_NW_QUAD_XY: 532715.28700 5302280.93600
SECONDARY_NE_QUAD_XY: 537388.88900 5302309.29500
SECONDARY_SE_QUAD_XY: 537433.82700 5295362.91300
SECONDARY_SW_QUAD_XY: 532754.60800 5295334.54700
RMSE_XY: 1.90000
IMAGE_SOURCE: BLACK AND WHITE FILM
SOURCE_IMAGE_ID: NAPP 9167 078
SOURCE_IMAGE_DATE: 1996 08 26
SOURCE_IMAGE_ID: NAPP 9167 154
SOURCE_IMAGE_DATE: 1996 08 26
SOURCE_IMAGE_ID: NAPP 9167 079
SOURCE_IMAGE_DATE: 1996 08 26
SOURCE_IMAGE_ID: NAPP 9164 214
SOURCE_IMAGE_DATE: 1996 07 27
SOURCE_DEM_DATE: 1952 00 00
AGENCY: WESTERN MAPPING CENTER (WMC)
PRODUCER: UNDEFINED
PRODUCTION_SYSTEM: GIS/MAGIC
COMPRESSION: UNDEFINED
STANDARD_VERSION: 1996 12
METADATA_DATE: 2000 06 13
DATA_FILE_SIZE: 40788957
BYTE_COUNT: 5379
