FILENAME: O4711012.SES.1080845.tif
QUADRANGLE_NAME: O'HANLON COULEE
QUADRANT: SE
WEST_LONGITUDE: -110 33 45.00000
EAST_LONGITUDE: -110 30 0.00000
NORTH_LATITUDE: 47 48 45.00000
SOUTH_LATITUDE: 47 45 0.00000
PRODUCTION_DATE: 2000 5 19
RASTER_ORDER: LEFT_RIGHT/TOP_BOTTOM
BAND_ORGANIZATION: SINGLE FILE
BAND_CONTENT: BLACK&WHITE
BAND_CONTENT: UNDEFINED
BAND_CONTENT: UNDEFINED
BITS_PER_PIXEL: 8
SAMPLES_AND_LINES: 5384 7581
HORIZONTAL_DATUM: NAD83
HORIZONTAL_COORDINATE_SYSTEM: UTM
COORDINATE_ZONE: 12
HORIZONTAL_UNITS: METERS
HORIZONTAL_RESOLUTION: 1.00000
SECONDARY_HORIZONTAL_DATUM: NAD27
XY_ORIGIN: 532395.00000 5295882.00000
SECONDARY_XY_ORIGIN: 532453.38900 5295666.69100
NATION: US
NATION: "SCIENCE
STATE: MT
NW_QUAD_CORNER_XY: 532753.58200 5295553.37700
NE_QUAD_CORNER_XY: 537432.65400 5295581.74100
SE_QUAD_CORNERY_XY: 537477.54800 5288635.41700
SW_QUAD_CORNER_XY: 532792.86400 5288607.04600
SECONDARY_NW_QUAD_XY: 532754.60800 5295334.54700
SECONDARY_NE_QUAD_XY: 537433.82700 5295362.91300
SECONDARY_SE_QUAD_XY: 537478.72100 5288416.60600
SECONDARY_SW_QUAD_XY: 532793.89000 5288388.23500
RMSE_XY: 0.90000
IMAGE_SOURCE: BLACK AND WHITE FILM
SOURCE_IMAGE_ID: NAPP 9167 076
SOURCE_IMAGE_DATE: 1996 08 26
SOURCE_IMAGE_ID: NAPP 9167 157
SOURCE_IMAGE_DATE: 1996 08 26
SOURCE_DEM_DATE: 1952 00 00
AGENCY: WESTERN MAPPING CENTER (WMC)
PRODUCER: UNDEFINED
PRODUCTION_SYSTEM: GIS/MAGIC
COMPRESSION: UNDEFINED
STANDARD_VERSION: 1996 12
METADATA_DATE: 2000 06 13
DATA_FILE_SIZE: 40821488
BYTE_COUNT: 5384
