FILENAME: O4711012.SWS.1080846.tif
QUADRANGLE_NAME: O'HANLON COULEE
QUADRANT: SW
WEST_LONGITUDE: -110 37 30.00000
EAST_LONGITUDE: -110 33 45.00000
NORTH_LATITUDE: 47 48 45.00000
SOUTH_LATITUDE: 47 45 0.00000
PRODUCTION_DATE: 2000 5 19
RASTER_ORDER: LEFT_RIGHT/TOP_BOTTOM
BAND_ORGANIZATION: SINGLE FILE
BAND_CONTENT: BLACK&WHITE
BAND_CONTENT: UNDEFINED
BAND_CONTENT: UNDEFINED
BITS_PER_PIXEL: 8
SAMPLES_AND_LINES: 5379 7578
HORIZONTAL_DATUM: NAD83
HORIZONTAL_COORDINATE_SYSTEM: UTM
COORDINATE_ZONE: 12
HORIZONTAL_UNITS: METERS
HORIZONTAL_RESOLUTION: 1.00000
SECONDARY_HORIZONTAL_DATUM: NAD27
XY_ORIGIN: 527715.00000 5295854.00000
SECONDARY_XY_ORIGIN: 527773.39100 5295638.74500
NATION: US
NATION: "SCIENCE
STATE: MT
NW_QUAD_CORNER_XY: 528074.50600 5295528.79400
NE_QUAD_CORNER_XY: 532753.58200 5295553.37700
SE_QUAD_CORNERY_XY: 532792.86400 5288607.04600
SW_QUAD_CORNER_XY: 528108.17600 5288582.45900
SECONDARY_NW_QUAD_XY: 528075.38600 5295309.96400
SECONDARY_NE_QUAD_XY: 532754.60800 5295334.54700
SECONDARY_SE_QUAD_XY: 532793.89000 5288388.23500
SECONDARY_SW_QUAD_XY: 528109.05600 5288363.64600
RMSE_XY: 0.90000
IMAGE_SOURCE: BLACK AND WHITE FILM
SOURCE_IMAGE_ID: NAPP 9167 157
SOURCE_IMAGE_DATE: 1996 08 26
SOURCE_DEM_DATE: 1952 00 00
AGENCY: WESTERN MAPPING CENTER (WMC)
PRODUCER: UNDEFINED
PRODUCTION_SYSTEM: GIS/MAGIC
COMPRESSION: UNDEFINED
STANDARD_VERSION: 1996 12
METADATA_DATE: 2000 06 13
DATA_FILE_SIZE: 40767441
BYTE_COUNT: 5379
