FILENAME: O4711011.SES.1080801.tif
QUADRANGLE_NAME: FORT BENTON
QUADRANT: SE
WEST_LONGITUDE: -110 41 15.00000
EAST_LONGITUDE: -110 37 30.00000
NORTH_LATITUDE: 47 48 45.00000
SOUTH_LATITUDE: 47 45 0.00000
PRODUCTION_DATE: 2000 5 16
RASTER_ORDER: LEFT_RIGHT/TOP_BOTTOM
BAND_ORGANIZATION: SINGLE FILE
BAND_CONTENT: BLACK&WHITE
BAND_CONTENT: UNDEFINED
BAND_CONTENT: UNDEFINED
BITS_PER_PIXEL: 8
SAMPLES_AND_LINES: 5374 7573
HORIZONTAL_DATUM: NAD83
HORIZONTAL_COORDINATE_SYSTEM: UTM
COORDINATE_ZONE: 12
HORIZONTAL_UNITS: METERS
HORIZONTAL_RESOLUTION: 1.00000
SECONDARY_HORIZONTAL_DATUM: NAD27
XY_ORIGIN: 523036.00000 5295829.00000
SECONDARY_XY_ORIGIN: 523094.39300 5295613.79800
NATION: US
NATION: "SCIENCE
STATE: MT
NW_QUAD_CORNER_XY: 523395.42600 5295507.99300
NE_QUAD_CORNER_XY: 528074.50600 5295528.79400
SE_QUAD_CORNERY_XY: 528108.17600 5288582.45900
SW_QUAD_CORNER_XY: 523423.48500 5288561.65400
SECONDARY_NW_QUAD_XY: 523396.16000 5295289.16300
SECONDARY_NE_QUAD_XY: 528075.38600 5295309.96400
SECONDARY_SE_QUAD_XY: 528109.05600 5288363.64600
SECONDARY_SW_QUAD_XY: 523424.21800 5288342.84100
RMSE_XY: 1.40000
IMAGE_SOURCE: BLACK AND WHITE FILM
SOURCE_IMAGE_ID: NAPP 9167 174
SOURCE_IMAGE_DATE: 1996 08 26
SOURCE_IMAGE_ID: NAPP 9167 173
SOURCE_IMAGE_DATE: 1996 08 26
SOURCE_IMAGE_ID: NAPP 9167 175
SOURCE_IMAGE_DATE: 1996 08 26
SOURCE_DEM_DATE: 1952 00 00
AGENCY: WESTERN MAPPING CENTER (WMC)
PRODUCER: UNDEFINED
PRODUCTION_SYSTEM: GIS/MAGIC
COMPRESSION: UNDEFINED
STANDARD_VERSION: 1996 12
METADATA_DATE: 2000 06 13
DATA_FILE_SIZE: 40702676
BYTE_COUNT: 5374
