FILENAME: O4711010.SWS.1080794.tif
QUADRANGLE_NAME: TUNIS
QUADRANT: SW
WEST_LONGITUDE: -110 52 30.00000
EAST_LONGITUDE: -110 48 45.00000
NORTH_LATITUDE: 47 48 45.00000
SOUTH_LATITUDE: 47 45 0.00000
PRODUCTION_DATE: 2000 5 16
RASTER_ORDER: LEFT_RIGHT/TOP_BOTTOM
BAND_ORGANIZATION: SINGLE FILE
BAND_CONTENT: BLACK&WHITE
BAND_CONTENT: UNDEFINED
BAND_CONTENT: UNDEFINED
BITS_PER_PIXEL: 8
SAMPLES_AND_LINES: 5358 7562
HORIZONTAL_DATUM: NAD83
HORIZONTAL_COORDINATE_SYSTEM: UTM
COORDINATE_ZONE: 12
HORIZONTAL_UNITS: METERS
HORIZONTAL_RESOLUTION: 1.00000
SECONDARY_HORIZONTAL_DATUM: NAD27
XY_ORIGIN: 508998.00000 5295778.00000
SECONDARY_XY_ORIGIN: 509056.57800 5295562.87700
NATION: US
NATION: "SCIENCE
STATE: MT
NW_QUAD_CORNER_XY: 509358.17400 5295468.28300
NE_QUAD_CORNER_XY: 514037.26000 5295477.73800
SE_QUAD_CORNERY_XY: 514054.09500 5288531.39200
SW_QUAD_CORNER_XY: 509369.39800 5288521.93600
SECONDARY_NW_QUAD_XY: 509358.46800 5295249.45100
SECONDARY_NE_QUAD_XY: 514037.70000 5295258.90600
SECONDARY_SE_QUAD_XY: 514054.53500 5288312.57800
SECONDARY_SW_QUAD_XY: 509369.69100 5288303.12100
RMSE_XY: 1.20000
IMAGE_SOURCE: BLACK AND WHITE FILM
SOURCE_IMAGE_ID: NAPP 9167 280
SOURCE_IMAGE_DATE: 1996 08 26
SOURCE_IMAGE_ID: NAPP 9168 082
SOURCE_IMAGE_DATE: 1996 08 26
SOURCE_IMAGE_ID: NAPP 9168 083
SOURCE_IMAGE_DATE: 1996 08 26
SOURCE_IMAGE_ID: NAPP 9168 049
SOURCE_IMAGE_DATE: 1996 08 26
SOURCE_IMAGE_ID: NAPP 9168 047
SOURCE_IMAGE_DATE: 1996 08 26
SOURCE_DEM_DATE: 1987 00 00
AGENCY: WESTERN MAPPING CENTER (WMC)
PRODUCER: UNDEFINED
PRODUCTION_SYSTEM: GIS/MAGIC
COMPRESSION: UNDEFINED
STANDARD_VERSION: 1996 12
METADATA_DATE: 2000 06 13
DATA_FILE_SIZE: 40522554
BYTE_COUNT: 5358
