FILENAME: O4711009.NWS.1078231.tif
QUADRANGLE_NAME: CARTER
QUADRANT: NW
WEST_LONGITUDE: -111 0 0.00000
EAST_LONGITUDE: -110 56 15.00000
NORTH_LATITUDE: 47 52 30.00000
SOUTH_LATITUDE: 47 48 45.00000
PRODUCTION_DATE: 2000 5 8
RASTER_ORDER: LEFT_RIGHT/TOP_BOTTOM
BAND_ORGANIZATION: SINGLE FILE
BAND_CONTENT: BLACK&WHITE
BAND_CONTENT: UNDEFINED
BAND_CONTENT: UNDEFINED
BITS_PER_PIXEL: 8
SAMPLES_AND_LINES: 5341 7556
HORIZONTAL_DATUM: NAD83
HORIZONTAL_COORDINATE_SYSTEM: UTM
COORDINATE_ZONE: 12
HORIZONTAL_UNITS: METERS
HORIZONTAL_RESOLUTION: 1.00000
SECONDARY_HORIZONTAL_DATUM: NAD27
XY_ORIGIN: 499640.00000 5302710.00000
SECONDARY_XY_ORIGIN: 499698.78100 5302494.80300
NATION: US
NATION: "SCIENCE
STATE: MT
NW_QUAD_CORNER_XY: 500000.00000 5302407.14500
NE_QUAD_CORNER_XY: 504673.47000 5302409.03600
SE_QUAD_CORNERY_XY: 504679.08700 5295462.61100
SW_QUAD_CORNER_XY: 500000.00000 5295460.72000
SECONDARY_NW_QUAD_XY: 500000.00000 5302188.29600
SECONDARY_NE_QUAD_XY: 504673.61700 5302190.18600
SECONDARY_SE_QUAD_XY: 504679.23400 5295243.77800
SECONDARY_SW_QUAD_XY: 500000.00000 5295241.88700
RMSE_XY: 1.00000
IMAGE_SOURCE: BLACK AND WHITE FILM
SOURCE_IMAGE_ID: NAPP 9168 105
SOURCE_IMAGE_DATE: 1996 08 26
SOURCE_IMAGE_ID: NAPP 8372 027
SOURCE_IMAGE_DATE: 1995 07 08
SOURCE_DEM_DATE: 1952 00 00
AGENCY: WESTERN MAPPING CENTER (WMC)
PRODUCER: UNDEFINED
PRODUCTION_SYSTEM: GIS/MAGIC
COMPRESSION: UNDEFINED
STANDARD_VERSION: 1996 12
METADATA_DATE: 2000 06 02
DATA_FILE_SIZE: 40361937
BYTE_COUNT: 5341
