FILENAME: O4711009.SWS.1078237.tif
QUADRANGLE_NAME: CARTER
QUADRANT: SW
WEST_LONGITUDE: -111 0 0.00000
EAST_LONGITUDE: -110 56 15.00000
NORTH_LATITUDE: 47 48 45.00000
SOUTH_LATITUDE: 47 45 0.00000
PRODUCTION_DATE: 2000 5 8
RASTER_ORDER: LEFT_RIGHT/TOP_BOTTOM
BAND_ORGANIZATION: SINGLE FILE
BAND_CONTENT: BLACK&WHITE
BAND_CONTENT: UNDEFINED
BAND_CONTENT: UNDEFINED
BITS_PER_PIXEL: 8
SAMPLES_AND_LINES: 5346 7555
HORIZONTAL_DATUM: NAD83
HORIZONTAL_COORDINATE_SYSTEM: UTM
COORDINATE_ZONE: 12
HORIZONTAL_UNITS: METERS
HORIZONTAL_RESOLUTION: 1.00000
SECONDARY_HORIZONTAL_DATUM: NAD27
XY_ORIGIN: 499640.00000 5295763.00000
SECONDARY_XY_ORIGIN: 499698.75700 5295547.90000
NATION: US
NATION: "SCIENCE
STATE: MT
NW_QUAD_CORNER_XY: 500000.00000 5295460.72000
NE_QUAD_CORNER_XY: 504679.08700 5295462.61100
SE_QUAD_CORNERY_XY: 504684.69900 5288516.26200
SW_QUAD_CORNER_XY: 500000.00000 5288514.37000
SECONDARY_NW_QUAD_XY: 500000.00000 5295241.88700
SECONDARY_NE_QUAD_XY: 504679.23400 5295243.77800
SECONDARY_SE_QUAD_XY: 504684.84600 5288297.44700
SECONDARY_SW_QUAD_XY: 500000.00000 5288295.55600
RMSE_XY: 1.30000
IMAGE_SOURCE: BLACK AND WHITE FILM
SOURCE_IMAGE_ID: NAPP 9168 107
SOURCE_IMAGE_DATE: 1996 08 26
SOURCE_DEM_DATE: 1952 00 00
AGENCY: WESTERN MAPPING CENTER (WMC)
PRODUCER: UNDEFINED
PRODUCTION_SYSTEM: GIS/MAGIC
COMPRESSION: UNDEFINED
STANDARD_VERSION: 1996 12
METADATA_DATE: 2000 06 02
DATA_FILE_SIZE: 40394376
BYTE_COUNT: 5346
