FILENAME: O4711008.NWS.1081034.tif
QUADRANGLE_NAME: PILOT ROCK
QUADRANT: NW
WEST_LONGITUDE: -110 7 30.00000
EAST_LONGITUDE: -110 3 45.00000
NORTH_LATITUDE: 48 0 0.00000
SOUTH_LATITUDE: 47 56 15.00000
PRODUCTION_DATE: 2000 5 24
RASTER_ORDER: LEFT_RIGHT/TOP_BOTTOM
BAND_ORGANIZATION: SINGLE FILE
BAND_CONTENT: BLACK&WHITE
BAND_CONTENT: UNDEFINED
BAND_CONTENT: UNDEFINED
BITS_PER_PIXEL: 8
SAMPLES_AND_LINES: 5406 7608
HORIZONTAL_DATUM: NAD83
HORIZONTAL_COORDINATE_SYSTEM: UTM
COORDINATE_ZONE: 12
HORIZONTAL_UNITS: METERS
HORIZONTAL_RESOLUTION: 1.00000
SECONDARY_HORIZONTAL_DATUM: NAD27
XY_ORIGIN: 564913.00000 5317026.00000
SECONDARY_XY_ORIGIN: 564971.72900 5316810.53900
NATION: US
NATION: "SCIENCE
STATE: MT
NW_QUAD_CORNER_XY: 565270.80400 5316670.61800
NE_QUAD_CORNER_XY: 569932.96200 5316725.42300
SE_QUAD_CORNERY_XY: 570017.39500 5309778.94100
SW_QUAD_CORNER_XY: 565349.60700 5309724.12300
SECONDARY_NW_QUAD_XY: 565272.85800 5316451.74900
SECONDARY_NE_QUAD_XY: 569935.16300 5316506.55600
SECONDARY_SE_QUAD_XY: 570019.59600 5309560.08900
SECONDARY_SW_QUAD_XY: 565351.66100 5309505.27000
RMSE_XY: 1.00000
IMAGE_SOURCE: BLACK AND WHITE FILM
SOURCE_IMAGE_ID: NAPP 9178 271
SOURCE_IMAGE_DATE: 1997 09 04
SOURCE_IMAGE_ID: NAPP 9178 270
SOURCE_IMAGE_DATE: 1997 09 04
SOURCE_DEM_DATE: 1952 00 00
AGENCY: WESTERN MAPPING CENTER (WMC)
PRODUCER: UNDEFINED
PRODUCTION_SYSTEM: GIS/MAGIC
COMPRESSION: UNDEFINED
STANDARD_VERSION: 1996 12
METADATA_DATE: 2000 06 13
DATA_FILE_SIZE: 41134254
BYTE_COUNT: 5406
