FILENAME: O4711007.NES.1081017.tif
QUADRANGLE_NAME: BIG BEND SCHOOL
QUADRANT: NE
WEST_LONGITUDE: -110 11 15.00000
EAST_LONGITUDE: -110 7 30.00000
NORTH_LATITUDE: 48 0 0.00000
SOUTH_LATITUDE: 47 56 15.00000
PRODUCTION_DATE: 2000 5 24
RASTER_ORDER: LEFT_RIGHT/TOP_BOTTOM
BAND_ORGANIZATION: SINGLE FILE
BAND_CONTENT: BLACK&WHITE
BAND_CONTENT: UNDEFINED
BAND_CONTENT: UNDEFINED
BITS_PER_PIXEL: 8
SAMPLES_AND_LINES: 5401 7604
HORIZONTAL_DATUM: NAD83
HORIZONTAL_COORDINATE_SYSTEM: UTM
COORDINATE_ZONE: 12
HORIZONTAL_UNITS: METERS
HORIZONTAL_RESOLUTION: 1.00000
SECONDARY_HORIZONTAL_DATUM: NAD27
XY_ORIGIN: 560250.00000 5316971.00000
SECONDARY_XY_ORIGIN: 560308.69000 5316755.59500
NATION: US
NATION: "SCIENCE
STATE: MT
NW_QUAD_CORNER_XY: 560608.63700 5316619.59300
NE_QUAD_CORNER_XY: 565270.80400 5316670.61800
SE_QUAD_CORNERY_XY: 565349.60700 5309724.12300
SW_QUAD_CORNER_XY: 560681.81100 5309673.08700
SECONDARY_NW_QUAD_XY: 560610.54400 5316400.72200
SECONDARY_NE_QUAD_XY: 565272.85800 5316451.74900
SECONDARY_SE_QUAD_XY: 565351.66100 5309505.27000
SECONDARY_SW_QUAD_XY: 560683.71800 5309454.23100
RMSE_XY: 0.80000
IMAGE_SOURCE: BLACK AND WHITE FILM
SOURCE_IMAGE_ID: NAPP 9179 036
SOURCE_IMAGE_DATE: 1997 09 04
SOURCE_IMAGE_ID: NAPP 9177 045
SOURCE_IMAGE_DATE: 1997 09 04
SOURCE_IMAGE_ID: NAPP 9179 035
SOURCE_IMAGE_DATE: 1997 09 04
SOURCE_IMAGE_ID: NAPP 9179 037
SOURCE_IMAGE_DATE: 1997 09 04
SOURCE_DEM_DATE: 1952 00 00
AGENCY: WESTERN MAPPING CENTER (WMC)
PRODUCER: UNDEFINED
PRODUCTION_SYSTEM: GIS/MAGIC
COMPRESSION: UNDEFINED
STANDARD_VERSION: 1996 12
METADATA_DATE: 2000 06 13
DATA_FILE_SIZE: 41074605
BYTE_COUNT: 5401
