FILENAME: O4711007.NWS.1081018.tif
QUADRANGLE_NAME: BIG BEND SCHOOL
QUADRANT: NW
WEST_LONGITUDE: -110 15 0.00000
EAST_LONGITUDE: -110 11 15.00000
NORTH_LATITUDE: 48 0 0.00000
SOUTH_LATITUDE: 47 56 15.00000
PRODUCTION_DATE: 2000 5 24
RASTER_ORDER: LEFT_RIGHT/TOP_BOTTOM
BAND_ORGANIZATION: SINGLE FILE
BAND_CONTENT: BLACK&WHITE
BAND_CONTENT: UNDEFINED
BAND_CONTENT: UNDEFINED
BITS_PER_PIXEL: 8
SAMPLES_AND_LINES: 5395 7600
HORIZONTAL_DATUM: NAD83
HORIZONTAL_COORDINATE_SYSTEM: UTM
COORDINATE_ZONE: 12
HORIZONTAL_UNITS: METERS
HORIZONTAL_RESOLUTION: 1.00000
SECONDARY_HORIZONTAL_DATUM: NAD27
XY_ORIGIN: 555588.00000 5316920.00000
SECONDARY_XY_ORIGIN: 555646.65100 5316704.65200
NATION: US
NATION: "SCIENCE
STATE: MT
NW_QUAD_CORNER_XY: 555946.46300 5316572.34800
NE_QUAD_CORNER_XY: 560608.63700 5316619.59300
SE_QUAD_CORNERY_XY: 560681.81100 5309673.08700
SW_QUAD_CORNER_XY: 556014.00700 5309625.83100
SECONDARY_NW_QUAD_XY: 555948.22300 5316353.47600
SECONDARY_NE_QUAD_XY: 560610.54400 5316400.72200
SECONDARY_SE_QUAD_XY: 560683.71800 5309454.23100
SECONDARY_SW_QUAD_XY: 556015.76800 5309406.97400
RMSE_XY: 1.10000
IMAGE_SOURCE: BLACK AND WHITE FILM
SOURCE_IMAGE_ID: NAPP 9177 044
SOURCE_IMAGE_DATE: 1997 09 04
SOURCE_IMAGE_ID: NAPP 9177 045
SOURCE_IMAGE_DATE: 1997 09 04
SOURCE_IMAGE_ID: NAPP 9177 043
SOURCE_IMAGE_DATE: 1997 09 04
SOURCE_DEM_DATE: 1952 00 00
AGENCY: WESTERN MAPPING CENTER (WMC)
PRODUCER: UNDEFINED
PRODUCTION_SYSTEM: GIS/MAGIC
COMPRESSION: UNDEFINED
STANDARD_VERSION: 1996 12
METADATA_DATE: 2000 06 13
DATA_FILE_SIZE: 41007395
BYTE_COUNT: 5395
