FILENAME: O4711007.SES.1081019.tif
QUADRANGLE_NAME: BIG BEND SCHOOL
QUADRANT: SE
WEST_LONGITUDE: -110 11 15.00000
EAST_LONGITUDE: -110 7 30.00000
NORTH_LATITUDE: 47 56 15.00000
SOUTH_LATITUDE: 47 52 30.00000
PRODUCTION_DATE: 2000 5 24
RASTER_ORDER: LEFT_RIGHT/TOP_BOTTOM
BAND_ORGANIZATION: SINGLE FILE
BAND_CONTENT: BLACK&WHITE
BAND_CONTENT: UNDEFINED
BAND_CONTENT: UNDEFINED
BITS_PER_PIXEL: 8
SAMPLES_AND_LINES: 5406 7604
HORIZONTAL_DATUM: NAD83
HORIZONTAL_COORDINATE_SYSTEM: UTM
COORDINATE_ZONE: 12
HORIZONTAL_UNITS: METERS
HORIZONTAL_RESOLUTION: 1.00000
SECONDARY_HORIZONTAL_DATUM: NAD27
XY_ORIGIN: 560324.00000 5310025.00000
SECONDARY_XY_ORIGIN: 560382.64900 5309809.56000
NATION: US
NATION: "SCIENCE
STATE: MT
NW_QUAD_CORNER_XY: 560681.81100 5309673.08700
NE_QUAD_CORNER_XY: 565349.60700 5309724.12300
SE_QUAD_CORNERY_XY: 565428.33200 5302777.70300
SW_QUAD_CORNER_XY: 560754.91200 5302726.65500
SECONDARY_NW_QUAD_XY: 560683.71800 5309454.23100
SECONDARY_NE_QUAD_XY: 565351.66100 5309505.27000
SECONDARY_SE_QUAD_XY: 565430.38600 5302558.86500
SECONDARY_SW_QUAD_XY: 560756.81900 5302507.81600
RMSE_XY: 1.00000
IMAGE_SOURCE: BLACK AND WHITE FILM
SOURCE_IMAGE_ID: NAPP 9179 034
SOURCE_IMAGE_DATE: 1997 09 04
SOURCE_IMAGE_ID: NAPP 9177 045
SOURCE_IMAGE_DATE: 1997 09 04
SOURCE_IMAGE_ID: NAPP 9179 035
SOURCE_IMAGE_DATE: 1997 09 04
SOURCE_IMAGE_ID: NAPP 9178 274
SOURCE_IMAGE_DATE: 1997 09 04
SOURCE_DEM_DATE: 1952 00 00
AGENCY: WESTERN MAPPING CENTER (WMC)
PRODUCER: UNDEFINED
PRODUCTION_SYSTEM: GIS/MAGIC
COMPRESSION: UNDEFINED
STANDARD_VERSION: 1996 12
METADATA_DATE: 2000 06 13
DATA_FILE_SIZE: 41112630
BYTE_COUNT: 5406
