FILENAME: O4711006.SWS.1081008.tif
QUADRANGLE_NAME: STRANAHAN
QUADRANT: SW
WEST_LONGITUDE: -110 22 30.00000
EAST_LONGITUDE: -110 18 45.00000
NORTH_LATITUDE: 47 56 15.00000
SOUTH_LATITUDE: 47 52 30.00000
PRODUCTION_DATE: 2000 5 23
RASTER_ORDER: LEFT_RIGHT/TOP_BOTTOM
BAND_ORGANIZATION: SINGLE FILE
BAND_CONTENT: BLACK&WHITE
BAND_CONTENT: UNDEFINED
BAND_CONTENT: UNDEFINED
BITS_PER_PIXEL: 8
SAMPLES_AND_LINES: 5390 7593
HORIZONTAL_DATUM: NAD83
HORIZONTAL_COORDINATE_SYSTEM: UTM
COORDINATE_ZONE: 12
HORIZONTAL_UNITS: METERS
HORIZONTAL_RESOLUTION: 1.00000
SECONDARY_HORIZONTAL_DATUM: NAD27
XY_ORIGIN: 546320.00000 5309883.00000
SECONDARY_XY_ORIGIN: 546378.54700 5309667.61900
NATION: US
NATION: "SCIENCE
STATE: MT
NW_QUAD_CORNER_XY: 546678.38100 5309542.66200
NE_QUAD_CORNER_XY: 551346.19700 5309582.35600
SE_QUAD_CORNERY_XY: 551408.05100 5302635.90500
SW_QUAD_CORNER_XY: 546734.61100 5302596.20200
SECONDARY_NW_QUAD_XY: 546679.84800 5309323.80300
SECONDARY_NE_QUAD_XY: 551347.81100 5309363.49800
SECONDARY_SE_QUAD_XY: 551409.66400 5302417.06300
SECONDARY_SW_QUAD_XY: 546736.07800 5302377.35900
RMSE_XY: 1.80000
IMAGE_SOURCE: BLACK AND WHITE FILM
SOURCE_IMAGE_ID: NAPP 9177 157
SOURCE_IMAGE_DATE: 1997 09 04
SOURCE_IMAGE_ID: NAPP 9177 158
SOURCE_IMAGE_DATE: 1997 09 04
SOURCE_IMAGE_ID: NAPP 9177 156
SOURCE_IMAGE_DATE: 1997 09 04
SOURCE_DEM_DATE: 1952 00 00
AGENCY: WESTERN MAPPING CENTER (WMC)
PRODUCER: UNDEFINED
PRODUCTION_SYSTEM: GIS/MAGIC
COMPRESSION: UNDEFINED
STANDARD_VERSION: 1996 12
METADATA_DATE: 2000 06 13
DATA_FILE_SIZE: 40931660
BYTE_COUNT: 5390
