FILENAME: O4711005.NWS.1080990.tif
QUADRANGLE_NAME: LOMA EAST
QUADRANT: NW
WEST_LONGITUDE: -110 30 0.00000
EAST_LONGITUDE: -110 26 15.00000
NORTH_LATITUDE: 48 0 0.00000
SOUTH_LATITUDE: 47 56 15.00000
PRODUCTION_DATE: 2000 5 22
RASTER_ORDER: LEFT_RIGHT/TOP_BOTTOM
BAND_ORGANIZATION: SINGLE FILE
BAND_CONTENT: BLACK&WHITE
BAND_CONTENT: UNDEFINED
BAND_CONTENT: UNDEFINED
BITS_PER_PIXEL: 8
SAMPLES_AND_LINES: 5373 7585
HORIZONTAL_DATUM: NAD83
HORIZONTAL_COORDINATE_SYSTEM: UTM
COORDINATE_ZONE: 12
HORIZONTAL_UNITS: METERS
HORIZONTAL_RESOLUTION: 1.00000
SECONDARY_HORIZONTAL_DATUM: NAD27
XY_ORIGIN: 536939.00000 5316754.00000
SECONDARY_XY_ORIGIN: 536997.53500 5316538.61200
NATION: US
NATION: "SCIENCE
STATE: MT
NW_QUAD_CORNER_XY: 537297.70300 5316421.16600
NE_QUAD_CORNER_XY: 541959.90100 5316453.29200
SE_QUAD_CORNERY_XY: 542010.55800 5309506.74900
SW_QUAD_CORNER_XY: 537342.73100 5309474.61600
SECONDARY_NW_QUAD_XY: 537298.87700 5316202.28900
SECONDARY_NE_QUAD_XY: 541961.22200 5316234.41600
SECONDARY_SE_QUAD_XY: 542011.87900 5309287.88800
SECONDARY_SW_QUAD_XY: 537343.90500 5309255.75400
RMSE_XY: 1.70000
IMAGE_SOURCE: BLACK AND WHITE FILM
SOURCE_IMAGE_ID: NAPP 9164 211
SOURCE_IMAGE_DATE: 1996 07 27
SOURCE_IMAGE_ID: NAPP 9164 212
SOURCE_IMAGE_DATE: 1996 07 27
SOURCE_DEM_DATE: 1952 00 00
AGENCY: WESTERN MAPPING CENTER (WMC)
PRODUCER: UNDEFINED
PRODUCTION_SYSTEM: GIS/MAGIC
COMPRESSION: UNDEFINED
STANDARD_VERSION: 1996 12
METADATA_DATE: 2000 06 13
DATA_FILE_SIZE: 40759578
BYTE_COUNT: 5373
