FILENAME: O4711005.SES.1080991.tif
QUADRANGLE_NAME: LOMA EAST
QUADRANT: SE
WEST_LONGITUDE: -110 26 15.00000
EAST_LONGITUDE: -110 22 30.00000
NORTH_LATITUDE: 47 56 15.00000
SOUTH_LATITUDE: 47 52 30.00000
PRODUCTION_DATE: 2000 5 22
RASTER_ORDER: LEFT_RIGHT/TOP_BOTTOM
BAND_ORGANIZATION: SINGLE FILE
BAND_CONTENT: BLACK&WHITE
BAND_CONTENT: UNDEFINED
BAND_CONTENT: UNDEFINED
BITS_PER_PIXEL: 8
SAMPLES_AND_LINES: 5384 7589
HORIZONTAL_DATUM: NAD83
HORIZONTAL_COORDINATE_SYSTEM: UTM
COORDINATE_ZONE: 12
HORIZONTAL_UNITS: METERS
HORIZONTAL_RESOLUTION: 1.00000
SECONDARY_HORIZONTAL_DATUM: NAD27
XY_ORIGIN: 541652.00000 5309843.00000
SECONDARY_XY_ORIGIN: 541710.51600 5309627.61900
NATION: US
NATION: "SCIENCE
STATE: MT
NW_QUAD_CORNER_XY: 542010.55800 5309506.74900
NE_QUAD_CORNER_XY: 546678.38100 5309542.66200
SE_QUAD_CORNERY_XY: 546734.61100 5302596.20200
SW_QUAD_CORNER_XY: 542061.16500 5302560.28100
SECONDARY_NW_QUAD_XY: 542011.87900 5309287.88800
SECONDARY_NE_QUAD_XY: 546679.84800 5309323.80300
SECONDARY_SE_QUAD_XY: 546736.07800 5302377.35900
SECONDARY_SW_QUAD_XY: 542062.48600 5302341.43600
RMSE_XY: 0.80000
IMAGE_SOURCE: BLACK AND WHITE FILM
SOURCE_IMAGE_ID: NAPP 9164 206
SOURCE_IMAGE_DATE: 1996 07 27
SOURCE_IMAGE_ID: NAPP 9164 205
SOURCE_IMAGE_DATE: 1996 07 27
SOURCE_DEM_DATE: 1952 00 00
AGENCY: WESTERN MAPPING CENTER (WMC)
PRODUCER: UNDEFINED
PRODUCTION_SYSTEM: GIS/MAGIC
COMPRESSION: UNDEFINED
STANDARD_VERSION: 1996 12
METADATA_DATE: 2000 06 13
DATA_FILE_SIZE: 40864560
BYTE_COUNT: 5384
