FILENAME: O4711004.NWS.1080840.tif
QUADRANGLE_NAME: LOMA WEST
QUADRANT: NW
WEST_LONGITUDE: -110 37 30.00000
EAST_LONGITUDE: -110 33 45.00000
NORTH_LATITUDE: 48 0 0.00000
SOUTH_LATITUDE: 47 56 15.00000
PRODUCTION_DATE: 2000 5 19
RASTER_ORDER: LEFT_RIGHT/TOP_BOTTOM
BAND_ORGANIZATION: SINGLE FILE
BAND_CONTENT: BLACK&WHITE
BAND_CONTENT: UNDEFINED
BAND_CONTENT: UNDEFINED
BITS_PER_PIXEL: 8
SAMPLES_AND_LINES: 5362 7577
HORIZONTAL_DATUM: NAD83
HORIZONTAL_COORDINATE_SYSTEM: UTM
COORDINATE_ZONE: 12
HORIZONTAL_UNITS: METERS
HORIZONTAL_RESOLUTION: 1.00000
SECONDARY_HORIZONTAL_DATUM: NAD27
XY_ORIGIN: 527614.00000 5316693.00000
SECONDARY_XY_ORIGIN: 527672.50500 5316477.68000
NATION: US
NATION: "SCIENCE
STATE: MT
NW_QUAD_CORNER_XY: 527973.29300 5316368.25400
NE_QUAD_CORNER_XY: 532635.50000 5316392.82000
SE_QUAD_CORNERY_XY: 532674.90000 5309446.26300
SW_QUAD_CORNER_XY: 528007.06400 5309421.69100
SECONDARY_NW_QUAD_XY: 527974.17300 5316149.37500
SECONDARY_NE_QUAD_XY: 532636.52700 5316173.94200
SECONDARY_SE_QUAD_XY: 532675.92700 5309227.40100
SECONDARY_SW_QUAD_XY: 528007.94400 5309202.82800
RMSE_XY: 1.60000
IMAGE_SOURCE: BLACK AND WHITE FILM
SOURCE_IMAGE_ID: NAPP 9167 151
SOURCE_IMAGE_DATE: 1996 08 26
SOURCE_IMAGE_ID: NAPP 9167 181
SOURCE_IMAGE_DATE: 1996 08 26
SOURCE_IMAGE_ID: NAPP 9167 150
SOURCE_IMAGE_DATE: 1996 08 26
SOURCE_IMAGE_ID: NAPP 9167 081
SOURCE_IMAGE_DATE: 1996 08 26
SOURCE_DEM_DATE: 1952 00 00
AGENCY: WESTERN MAPPING CENTER (WMC)
PRODUCER: UNDEFINED
PRODUCTION_SYSTEM: GIS/MAGIC
COMPRESSION: UNDEFINED
STANDARD_VERSION: 1996 12
METADATA_DATE: 2000 06 13
DATA_FILE_SIZE: 40633236
BYTE_COUNT: 5362
