FILENAME: O4711003.NES.1080827.tif
QUADRANGLE_NAME: FORT BENTON NW
QUADRANT: NE
WEST_LONGITUDE: -110 41 15.00000
EAST_LONGITUDE: -110 37 30.00000
NORTH_LATITUDE: 48 0 0.00000
SOUTH_LATITUDE: 47 56 15.00000
PRODUCTION_DATE: 2000 5 16
RASTER_ORDER: LEFT_RIGHT/TOP_BOTTOM
BAND_ORGANIZATION: SINGLE FILE
BAND_CONTENT: BLACK&WHITE
BAND_CONTENT: UNDEFINED
BAND_CONTENT: UNDEFINED
BITS_PER_PIXEL: 8
SAMPLES_AND_LINES: 5357 7574
HORIZONTAL_DATUM: NAD83
HORIZONTAL_COORDINATE_SYSTEM: UTM
COORDINATE_ZONE: 12
HORIZONTAL_UNITS: METERS
HORIZONTAL_RESOLUTION: 1.00000
SECONDARY_HORIZONTAL_DATUM: NAD27
XY_ORIGIN: 522952.00000 5316669.00000
SECONDARY_XY_ORIGIN: 523010.48800 5316453.71300
NATION: US
NATION: "SCIENCE
STATE: MT
NW_QUAD_CORNER_XY: 523311.08300 5316347.46700
NE_QUAD_CORNER_XY: 527973.29300 5316368.25400
SE_QUAD_CORNERY_XY: 528007.06400 5309421.69100
SW_QUAD_CORNER_XY: 523339.22500 5309400.90000
SECONDARY_NW_QUAD_XY: 523311.81600 5316128.58800
SECONDARY_NE_QUAD_XY: 527974.17300 5316149.37500
SECONDARY_SE_QUAD_XY: 528007.94400 5309202.82800
SECONDARY_SW_QUAD_XY: 523339.95900 5309182.03600
RMSE_XY: 1.30000
IMAGE_SOURCE: BLACK AND WHITE FILM
SOURCE_IMAGE_ID: NAPP 9167 180
SOURCE_IMAGE_DATE: 1996 08 26
SOURCE_IMAGE_ID: NAPP 9167 178
SOURCE_IMAGE_DATE: 1996 08 26
SOURCE_IMAGE_ID: NAPP 9167 181
SOURCE_IMAGE_DATE: 1996 08 26
SOURCE_DEM_DATE: 1963 00 00
AGENCY: WESTERN MAPPING CENTER (WMC)
PRODUCER: UNDEFINED
PRODUCTION_SYSTEM: GIS/MAGIC
COMPRESSION: UNDEFINED
STANDARD_VERSION: 1996 12
METADATA_DATE: 2000 06 13
DATA_FILE_SIZE: 40579275
BYTE_COUNT: 5357
